BEGIN:VCALENDAR
VERSION:2.0
PRODID:-//ChamberMaster//Event Calendar 2.0//EN
METHOD:PUBLISH
X-PUBLISHED-TTL:P3D
REFRESH-INTERVAL:P3D
CALSCALE:GREGORIAN
BEGIN:VEVENT
DTSTART:20250503T190000Z
DTEND:20250503T230000Z
X-MICROSOFT-CDO-ALLDAYEVENT:FALSE
SUMMARY:10th Annual Kentucky Derby Party - TLC
DESCRIPTION:Celebrate the 151st running of The Greatest Two Minutes in Sports with Team TLC! \n\n\n\nJoin us for races\, silent and live auctions\, bourbon and cigar sampling\, and fantastic food and fun with friends as we celebrate our kids and welcome spring! All proceeds from this annual fundraiser benefit the TLC Scholarship Fund\, which helps kids in our community access the therapeutic early learning services they need for the best possible start in life. Help us help more families in Northern Colorado by participating in this annual spring soiree! Get your tickets here beginning April 1. They are sure to go fast\, so get them while they last!
X-ALT-DESC;FMTTYPE=text/html:&nbsp\;\n<div><span style="font-size:22px\;"><span style="margin: 0px\; padding: 0px\; border: 0px\; vertical-align: baseline\; font-weight: 600\; font-family: Modica\;">Celebrate the 151st running of The</span><span style="font-family: Modica\;">&nbsp\;</span><span style="margin: 0px\; padding: 0px\; border: 0px\; vertical-align: baseline\; font-weight: 600\; font-family: Modica\;">Greatest Two Minutes in Sports with Team TLC!</span><span style="font-family: Modica\;">&nbsp\;<br />\n<br />\nJoin us for races\, silent and live auctions\, bourbon and cigar sampling\, and fantastic food and fun with friends as we celebrate our kids and welcome spring! All proceeds from this annual fundraiser benefit the TLC Scholarship Fund\, which helps kids in our community access the therapeutic early learning services they need for the best possible start in life. Help us help more families in Northern Colorado by participating in this annual spring soiree! Get your tickets <strong><a href="https://secure.qgiv.com/for/tlclearningcenter/event/derby2025/">here</a></strong>&nbsp\;</span><span style="font-family: Modica\;">beginning April 1. They are sure to go fast\, so get them while they last!</span></span></div>\n
LOCATION:Fox Hill Club
UID:e.3083.13308
SEQUENCE:3
DTSTAMP:20260421T130314Z
URL:https://members.longmontchamber.org/events/details/10th-annual-kentucky-derby-party-tlc-13308
END:VEVENT

END:VCALENDAR
