BEGIN:VCALENDAR
VERSION:2.0
PRODID:-//ChamberMaster//Event Calendar 2.0//EN
METHOD:PUBLISH
X-PUBLISHED-TTL:P3D
REFRESH-INTERVAL:P3D
CALSCALE:GREGORIAN
BEGIN:VEVENT
DTSTART:20191218T190000Z
DTEND:20191218T200000Z
X-MICROSOFT-CDO-ALLDAYEVENT:FALSE
SUMMARY:12 Tips for Getting FAST Marketing Results
DESCRIPTION:FUN FACT: 100% of attendees who apply these 12 marketing tips experience positive results!\n\nAre you ready to ramp up your marketing efforts to launch your new year? Bring your lunch and join us for a packed hour of marketing know-how. Be included in the 100% and realize your marketing potential. This workshop can be attended at no cost for all business owners in Longmont. Please send an email to marketing@bouldersbdc.com to get a discount code.\n\nSpeaker(s): Suzi Bahnsen\, Boulder SBDC Assistant Director\n\nCo-Sponsor(s): City of Longmont & Longmont Economic Development Partnership\n\nSuzi Bahnsen is a branding expert that helps companies strategize and leverage the most effective sales and marketing planning to capitalize on their time\, money and resources. With over 20 years of experience as a sales and marketing professional\, she has been a CMO\, Director\, Sales Executive and the owner of a Design and Marketing Agency. Her experience as a business owner\, combined with her background overseeing marketing and sales teams\, provides her with a unique understanding that comes through as she continues to share and grow. As the Boulder SBDC Assistant Director\, she lends her advice and support to businesses with a desire to thrive. The Colorado Small Business Development Center Network is partially funded by the U.S. Small Business Administration (SBA.) The support given by the SBA through such funding does not constitute an expressed or implied endorsement of any of the co-sponsors' or participants' opinions\, products or services. The Colorado SBDC is a partnership between the Colorado Office of Economic Development and International Trade\, the SBA\, Colorado's institutions of higher education and local development organizations.
X-ALT-DESC;FMTTYPE=text/html:<p class="gmail-cdworkshoptextinfo" style="margin-top:0in\;margin-right:0in\;\nmargin-bottom:15.0pt\;margin-left:0in\;vertical-align:baseline"><span style="font-family:&quot\;Open Sans&quot\;\,&quot\;sans-serif&quot\;\;color:#444444">FUN FACT: 100% of attendees who apply these 12 marketing tips experience positive results!<o:p></o:p></span></p>\n\n<p class="gmail-cdworkshoptextinfo" style="margin-top:0in\;margin-right:0in\;\nmargin-bottom:15.0pt\;margin-left:0in\;vertical-align:baseline\;font-variant-numeric:inherit\;\nfont-variant-east-asian:inherit\;font-stretch:inherit\;line-height:inherit\;\nwhite-space:pre-wrap"><span style="font-family:&quot\;Open Sans&quot\;\,&quot\;sans-serif&quot\;\;\ncolor:#444444">Are you ready to ramp up your marketing efforts to launch your new year? Bring your lunch and join us for a packed hour of marketing know-how. Be included in the 100% and realize your marketing potential. This workshop can be attended at no cost for all business owners in Longmont. Please send an email to <a href="mailto:marketing@bouldersbdc.com">marketing@bouldersbdc.com</a> to get a discount code.<o:p></o:p></span></p>\n\n<p class="gmail-cdworkshoptextinfo" style="margin-top:0in\;margin-right:0in\;\nmargin-bottom:15.0pt\;margin-left:0in\;vertical-align:baseline\;font-variant-numeric:inherit\;\nfont-variant-east-asian:inherit\;font-stretch:inherit\;line-height:inherit\;\nwhite-space:pre-wrap"><span style="font-family:&quot\;Open Sans&quot\;\,&quot\;sans-serif&quot\;\;\ncolor:#444444">Speaker(s): Suzi Bahnsen\, Boulder SBDC Assistant Director<o:p></o:p></span></p>\n\n<p class="gmail-cdworkshoptextinfo" style="margin-top:0in\;margin-right:0in\;\nmargin-bottom:15.0pt\;margin-left:0in\;vertical-align:baseline\;font-variant-numeric:inherit\;\nfont-variant-east-asian:inherit\;font-stretch:inherit\;line-height:inherit\;\nwhite-space:pre-wrap"><span style="font-family:&quot\;Open Sans&quot\;\,&quot\;sans-serif&quot\;\;\ncolor:#444444">Co-Sponsor(s): City of Longmont &amp\; Longmont Economic Development Partnership<o:p></o:p></span></p>\n\n<p class="gmail-cdworkshoptextinfo" style="margin-top:0in\;margin-right:0in\;\nmargin-bottom:15.0pt\;margin-left:0in\;vertical-align:baseline\;font-variant-numeric:inherit\;\nfont-variant-east-asian:inherit\;font-stretch:inherit\;line-height:inherit\;\nwhite-space:pre-wrap"><span style="font-family:&quot\;Open Sans&quot\;\,&quot\;sans-serif&quot\;\;\ncolor:#444444">Suzi Bahnsen is a branding expert that helps companies strategize and leverage the most effective sales and marketing planning to capitalize on their time\, money and resources. With over 20 years of experience as a sales and marketing professional\, she has been a CMO\, Director\, Sales Executive and the owner of a Design and Marketing Agency. Her experience as a business owner\, combined with her background overseeing marketing and sales teams\, provides her with a unique understanding that comes through as she continues to share and grow. As the Boulder SBDC Assistant Director\, she lends her advice and support to businesses with a desire to thrive. The Colorado Small Business Development Center Network is partially funded by the U.S. Small Business Administration (SBA.) The support given by the SBA through such funding does not constitute an expressed or implied endorsement of any of the co-sponsors&#39\; or participants&#39\; opinions\, products or services. The Colorado SBDC is a partnership between the Colorado Office of Economic Development and International Trade\, the SBA\, Colorado&#39\;s institutions of higher education and local development organizations.<o:p></o:p></span></p>\n
LOCATION:Longmont Area Chamber of Commerce 528 Main St.\, Longmont\, CO
UID:e.3083.7360
SEQUENCE:3
DTSTAMP:20260425T231119Z
URL:https://members.longmontchamber.org/events/details/12-tips-for-getting-fast-marketing-results-7360
END:VEVENT

END:VCALENDAR
