BEGIN:VCALENDAR
VERSION:2.0
PRODID:-//ChamberMaster//Event Calendar 2.0//EN
METHOD:PUBLISH
X-PUBLISHED-TTL:P3D
REFRESH-INTERVAL:P3D
CALSCALE:GREGORIAN
BEGIN:VEVENT
DTSTART;VALUE=DATE:20230314
DTEND;VALUE=DATE:20230316
TRANSP:TRANSPARENT
X-MICROSOFT-CDO-ALLDAYEVENT:TRUE
SUMMARY:16-Hr Fall Protection Competent Person\, March 14-15
DESCRIPTION:This two-day course is appropriate for employees identified to be a competent person. Competent Person training will enable the attendee to be responsible for the immediate supervision\, implementation\, and monitoring of a managed fall protection program. Upon completion of this course\, participants will receive a certificate recognizing they have met OSHA and ANSI requirements as a Competent Person and Competent Inspector. This training will be held on March 14-15 from 8 a.m. - 5 p.m. in Colorado Springs. Pricing for this training is $449 for policyholders per person and $499 for non-policyholders per person.
X-ALT-DESC;FMTTYPE=text/html:<span style="background-color:rgb(249\, 249\, 249)\; color:rgb(56\, 56\, 59)\; font-family:roboto\,sans-serif\; font-size:16px">This two-day course is appropriate for employees identified to be a competent person</span><span style="background-color:rgb(249\, 249\, 249)\; color:rgb(40\, 40\, 42)\; font-family:roboto\,sans-serif\; font-size:16px">. Competent Person training will enable the attendee to be responsible for the immediate supervision\, implementation\, and monitoring of a managed fall protection program. Upon completion of this course\, participants will receive a certificate recognizing they have met OSHA and ANSI requirements as a Competent Person and Competent Inspector. </span><span style="background-color:rgb(249\, 249\, 249)\; color:rgb(26\, 32\, 38)\; font-family:roboto\,sans-serif\; font-size:16px">This training will be held on March 14-15 from 8 a.m. - 5 p.m. in Colorado Springs. Pricing for this training is $449 for policyholders per person and $499 for non-policyholders per person.</span>
LOCATION:2345 N Academy Blvd\, Colorado Springs\, CO 8090
UID:e.3083.9628
SEQUENCE:3
DTSTAMP:20260423T070805Z
URL:https://members.longmontchamber.org/events/details/16-hr-fall-protection-competent-person-march-14-15-9628
END:VEVENT

END:VCALENDAR
