BEGIN:VCALENDAR
VERSION:2.0
PRODID:-//ChamberMaster//Event Calendar 2.0//EN
METHOD:PUBLISH
X-PUBLISHED-TTL:P3D
REFRESH-INTERVAL:P3D
CALSCALE:GREGORIAN
BEGIN:VEVENT
DTSTART:20190807T170000Z
DTEND:20190807T183000Z
X-MICROSOFT-CDO-ALLDAYEVENT:FALSE
SUMMARY:2019-08-07 Safety Training "Industrial Ergonomics"
DESCRIPTION:Longmont Area Chamber of Commerce / Pinnacol Assurance Workers Compensation safety training\n\n"Industrial Ergonomics: Guidelines for Lifting and Moving Materials to Prevent Injury"\n\nPresented by Kevin Simonton\, Pinnacol Assurance\n\n\n\nIf you work in an industrial setting such as manufacturing\, warehousing\, construction\, and food processing\, this course is for you. Did you know that each year\, strains are the leading cause of industrial injuries and are responsible for 24% of Pinnacol's claims?  Strains due to lifting cost almost $40 million annually? Use ergonomic principles to reduce employee risk and prevent common lifting injuries. Take valuable tools back to your workplace\, including:\n\n\n	Strategies for using work positioners\, material handling aids\, lifting techniques and job rotation to mitigate risk\n\n\n\n	How to identify six manual material handling workplace risk factors for MSDs\n	The most effective approaches for reducing your employees risk of developing low back and shoulder MSDs\n	How to apply ergonomic design principles to create safer lifting and moving material tasks\n	How to use a checklist to identify high risk tasks when lifting and pushing/pulling
X-ALT-DESC;FMTTYPE=text/html:<p><span style="font-family:arial\;"><font color="#343434"><span style="font-size: 14.6667px\;">Longmont Area Chamber of Commerce /&nbsp\;</span></font></span><span style="font-family:arial\;"><font color="#343434"><span style="font-size: 14.6667px\;">Pinnacol Assurance Workers Compensation safety training</span></font><br />\n<span style="font-size:14px\;"><strong>&ldquo\;Industrial Ergonomics: Guidelines for Lifting and Moving Materials to Prevent Injury&rdquo\;</strong><br />\n<em>Presented by Kevin Simonton\, Pinnacol Assurance</em></span><br />\n<br />\nIf you work in an industrial setting such as manufacturing\, warehousing\, construction\, and food processing\, this course is for you. Did you know that each year\, strains are the leading cause of industrial injuries and are responsible for 24% of Pinnacol&rsquo\;s claims?&nbsp\; Strains due to lifting cost almost $40 million annually? Use ergonomic principles to reduce employee risk and prevent common lifting injuries. Take valuable tools back to your workplace\, including:</span></p>\n\n<ul>\n	<li><span style="font-family:arial\;">Strategies for using work positioners\, material handling aids\, lifting techniques and job rotation to mitigate risk</span></li>\n</ul>\n\n<ul>\n	<li style="margin-right:4.5pt\;"><span style="font-family:arial\;">How to identify six manual material handling workplace risk factors for MSDs</span></li>\n	<li><span style="font-family:arial\;">The most effective approaches for reducing your employees risk of developing low back and shoulder MSDs</span></li>\n	<li style="line-height:115%\;"><span style="font-family:arial\;">How to apply ergonomic design principles to create safer lifting and moving material tasks</span></li>\n	<li style="line-height:115%\;"><span style="font-family:arial\;">How to use a checklist to identify high risk tasks when lifting and pushing/pulling</span></li>\n</ul>\n
LOCATION:Longmont Area Chamber of Commerce 528 Main Street Longmont\, CO 80501 2-hour Parking lot is east of the building
UID:e.3083.6879
SEQUENCE:3
DTSTAMP:20260426T042145Z
URL:https://members.longmontchamber.org/events/details/2019-08-07-safety-training-industrial-ergonomics-6879
END:VEVENT

END:VCALENDAR
