BEGIN:VCALENDAR
VERSION:2.0
PRODID:-//ChamberMaster//Event Calendar 2.0//EN
METHOD:PUBLISH
X-PUBLISHED-TTL:P3D
REFRESH-INTERVAL:P3D
CALSCALE:GREGORIAN
BEGIN:VEVENT
DTSTART:20191106T180000Z
DTEND:20191106T193000Z
X-MICROSOFT-CDO-ALLDAYEVENT:FALSE
SUMMARY:2019-11-06 Safety Training "Leveraging Medical Provider Relationships"
DESCRIPTION:Longmont Area Chamber of Commerce / Pinnacol Assurance Safety Training\n\nTopic: Leveraging Medical Provider Relationships\n\nPresented by Lisa Bicket and Laura Palmer\, Pinnacol Assurance\n\nThis informal\, interactive presentation provides an overview on how Pinnacol manages our SelectNet provider network\, the importance of selecting the "right" providers to care for injured workers and how to develop relationships with providers to promote a positive claim experience.  A designated provider participates in a question and answer format during the presentation to engage the audience and encourage questions to clarify the role of the designated provider.  Other Pinnacol programs that are highlighted  in this presentation  include the Physician Advisor Program\, the Pharmacy Benefit Program and the role and access to Return to Work Consultants.
X-ALT-DESC;FMTTYPE=text/html:<p><span style="font-family:tahoma\;"><span style="font-size:14px\;"><font color="#343434"><b>Longmont Area Chamber of Commerce /&nbsp\;Pinnacol Assurance&nbsp\;Safety Training<br />\nTopic:&nbsp\;</b></font>Leveraging Medical Provider Relationships</span></span></p>\n\n<p><span style="font-family:tahoma\;"><span style="font-size:14px\;"><em>Presented by&nbsp\;Lisa Bicket and Laura Palmer\, Pinnacol Assurance</em></span></span></p>\n\n<p><span style="font-family:tahoma\;"><span style="font-size:14px\;">This informal\, interactive presentation provides an overview on how Pinnacol manages our SelectNet provider network\, the importance of selecting the &ldquo\;right&rdquo\; providers to care for injured workers and how to develop relationships with providers to promote a positive claim experience.&nbsp\; A designated provider participates in a question and answer format during the presentation to engage the audience and encourage questions to clarify the role of the designated provider. &nbsp\;Other Pinnacol programs that are highlighted&nbsp\; in this presentation &nbsp\;include the Physician Advisor Program\, the Pharmacy Benefit Program and the role and access to Return to Work Consultants.</span></span><br />\n&nbsp\;</p>\n
LOCATION:Longmont Area Chamber of Commerce 528 Main Street Longmont\, CO 80501 2-hour Parking lot is east of the building
UID:e.3083.6880
SEQUENCE:3
DTSTAMP:20260425T233045Z
URL:https://members.longmontchamber.org/events/details/2019-11-06-safety-training-leveraging-medical-provider-relationships-6880
END:VEVENT

END:VCALENDAR
