BEGIN:VCALENDAR
VERSION:2.0
PRODID:-//ChamberMaster//Event Calendar 2.0//EN
METHOD:PUBLISH
X-PUBLISHED-TTL:P3D
REFRESH-INTERVAL:P3D
CALSCALE:GREGORIAN
BEGIN:VEVENT
DTSTART:20200205T180000Z
DTEND:20200205T193000Z
X-MICROSOFT-CDO-ALLDAYEVENT:FALSE
SUMMARY:2020-02-05 Safety Training "Ergonomics"
DESCRIPTION:Longmont Area Chamber of Commerce / Pinnacol Assurance Safety Training\n\nTopic: Ergonomics\n\nPresented by Scott Sullivan\, WorkWell Occupational Medicine\n\nProviding detailed education in the field of ergonomics targeting manufacturing of office settings\, the equipment and devices that fit the human body\, and the relationship between workers and their environment.  Class includes information on basic anatomy and physiology of the upper extremities and spine\, concepts related to physics and leverage\, as well as identifying risk factors associated with prolonged postures and identifying ergonomically challenged workstations.
X-ALT-DESC;FMTTYPE=text/html:<p><span style="font-family:tahoma\;"><span style="font-size:14px\;"><font color="#343434"><b>Longmont Area Chamber of Commerce /&nbsp\;Pinnacol Assurance&nbsp\;Safety Training<br />\nTopic:&nbsp\;</b></font>Ergonomics</span></span></p>\n\n<p><span style="font-family:tahoma\;"><span style="font-size:14px\;"><em>Presented by Scott Sullivan\, WorkWell Occupational Medicine</em></span></span><br />\n<span style="font-size:14px\;"><span style="font-family:arial narrow\,sans-serif\;">Providing detailed education in the field of ergonomics targeting manufacturing of office settings\, the equipment and devices that fit the human body\, and the relationship between workers and their environment.&nbsp\; Class includes information on basic anatomy and physiology of the upper extremities and spine\, concepts related to physics and leverage\, as well as identifying risk factors associated with prolonged postures and identifying ergonomically challenged workstations.</span></span><br />\n&nbsp\;</p>\n
LOCATION:Longmont Area Chamber of Commerce 528 Main Street Longmont\, CO 80501 2-hour Parking lot is east of the building
UID:e.3083.7346
SEQUENCE:3
DTSTAMP:20260425T182447Z
URL:https://members.longmontchamber.org/events/details/2020-02-05-safety-training-ergonomics-7346
END:VEVENT

END:VCALENDAR
