BEGIN:VCALENDAR
VERSION:2.0
PRODID:-//ChamberMaster//Event Calendar 2.0//EN
METHOD:PUBLISH
X-PUBLISHED-TTL:P3D
REFRESH-INTERVAL:P3D
CALSCALE:GREGORIAN
BEGIN:VEVENT
DTSTART:20200415T170000Z
DTEND:20200415T183000Z
X-MICROSOFT-CDO-ALLDAYEVENT:FALSE
SUMMARY:2020-04-15 ZOOM Safety Training\, "Strike & Struck-by Hazard Recognition"
DESCRIPTION:** Presentation date changed due to COVID-19\n\n\n\nLongmont Area Chamber of Commerce / Pinnacol Assurance Safety Training\n\nTopic: Strike & Struck-by Hazard Recognition for all businesses\n\nPresented by Trent Brewer\, Pinnacol Assurance\n\n\n\nTrent Brewer\, our group safety consultant\, has tailored the April 15\, 11a-12:30p\, "Strike- and Struck-by Hazard Recognition" training to be relevant to most businesses!\n\n \n\nDon't miss the opportunity to "attend" this Zoom online training and earn training credit for your company.\n\n \n\n"Strike- and Struck-by Hazard Recognition"  from 11am-12:30pm via a ZOOM online training "meeting".\n\nWas selected specifically to address workplace trends across all businesses represented in the Longmont Area Chamber of Commerce safety group. The course will help you:\n\n\n	Identify and review common strike and struck-by hazards\n	Recognize employer requirements regarding struck-by hazards\n	Protect workers from struck-by hazards
X-ALT-DESC;FMTTYPE=text/html:<p><span style="font-family:tahoma\;"><span style="font-size:14px\;"><font color="#343434"><b>** Presentation date changed due to COVID-19<br />\n<br />\nLongmont Area Chamber of Commerce /&nbsp\;Pinnacol Assurance&nbsp\;Safety Training<br />\nTopic: </b></font></span></span><strong><span style="font-family:arial\,sans-serif\;"><span style="font-size:12.0pt\;">Strike &amp\; Struck-by Hazard Recognition for all businesses</span></span></strong><br />\n<span style="font-family:tahoma\;"><span style="font-size:14px\;"><font color="#343434"><b>Presented by Trent Brewer\, Pinnacol Assurance</b></font></span></span><br />\n<br />\n<span style="font-family:century gothic\,sans-serif\;">Trent Brewer\, our group safety consultant\, has tailored the April 15\, 11a-12:30p\, &ldquo\;Strike- and Struck-by Hazard Recognition&rdquo\; training <span style="color:red\;">to be relevant to most businesses!</span></span><br />\n&nbsp\;<br />\n<span style="font-family:century gothic\,sans-serif\;">Don&rsquo\;t miss the opportunity to &ldquo\;attend&rdquo\; this Zoom online training and earn training credit for your company.</span><br />\n&nbsp\;<br />\n<span style="font-family:century gothic\,sans-serif\;"><a href="http://longmontco.chambermaster.com/events/details/2020-04-15-zoom-safety-training-strike-struck-by-hazard-recognition-7348">&quot\;Strike- and Struck-by Hazard Recognition&quot\; &nbsp\;from 11am-12:30pm</a> via a ZOOM online training &ldquo\;meeting&rdquo\;.<br />\nWas selected specifically to address workplace trends across all businesses represented in the Longmont Area Chamber of Commerce safety group. The course will help you:</span></p>\n\n<ul>\n	<li><span style="font-family:century gothic\,sans-serif\;">Identify and review common&nbsp\;<em>strike</em>&nbsp\;and&nbsp\;<em>struck-b</em>y hazards</span></li>\n	<li><span style="font-family:century gothic\,sans-serif\;">Recognize employer requirements regarding struck-by hazards</span></li>\n	<li><span style="font-family:century gothic\,sans-serif\;">Protect workers from struck-by hazards</span></li>\n</ul>\n\n<p>&nbsp\;</p>\n\n<p>&nbsp\;</p>\n
LOCATION:Presented in ZOOM meeting from phone or computer: You must RSVP to kstevens@longmontchamber to receive links to register for the course and receive a Zoom meeting link. Prior to presentation\, please download "Zoom Cloud Meeting" from Playstore or\, from your laptop\, go to www.zoom.com\, click on "Resources" in top-left and download "Zoom Client". We will send a meeting link closer to the presentation date.
UID:e.3083.7348
SEQUENCE:3
DTSTAMP:20260425T152846Z
URL:https://members.longmontchamber.org/events/details/2020-04-15-zoom-safety-training-strike-struck-by-hazard-recognition-7348
END:VEVENT

END:VCALENDAR
