BEGIN:VCALENDAR
VERSION:2.0
PRODID:-//ChamberMaster//Event Calendar 2.0//EN
METHOD:PUBLISH
X-PUBLISHED-TTL:P3D
REFRESH-INTERVAL:P3D
CALSCALE:GREGORIAN
BEGIN:VEVENT
DTSTART:20200506T170000Z
DTEND:20200506T183000Z
X-MICROSOFT-CDO-ALLDAYEVENT:FALSE
SUMMARY:2020-05-06 ZOOM Safety Training\, "Managing Safety Through Good Hiring Practices"
DESCRIPTION:Longmont Area Chamber of Commerce / Pinnacol Assurance Safety Training\n\nZOOM safety training:\n\n"Managing Safety Through Good Hiring Practices"\n\nPresented by Jon VonderHaar\, Pinnacol Assurance\n\n\n\nDid you know that in the past two years\, employees who have been on the job less than one year accounted for nearly 40 percent of the total claims costs and number of claims reported to Pinnacol? This course will provide you with information to help you safely introduce new employees to your workplace pre- and post-offer. In addition\, we will discuss specific opportunities to review potential employees and what steps you can take to ensure you are hiring employees who are as committed to safety as you are.
X-ALT-DESC;FMTTYPE=text/html:<p><span style="font-family:tahoma\;"><span style="font-size:14px\;"><font color="#343434"><b>Longmont Area Chamber of Commerce /&nbsp\;Pinnacol Assurance&nbsp\;Safety Training<br />\nZOOM safety training:<br />\n&quot\;Managing Safety Through Good Hiring Practices&quot\;<br />\nPresented by Jon VonderHaar\, Pinnacol Assurance</b></font></span></span><br />\n<br />\n<span style="font-family:&quot\;Arial&quot\;\,&quot\;sans-serif&quot\;">Did you know that in the past two years\, employees who have been on the job less than one year accounted for nearly 40 percent of the total claims costs and number of claims reported to Pinnacol? This course will provide you with information to help you safely introduce new employees to your workplace pre- and post-offer. In addition\, we will discuss specific opportunities to review potential employees and what steps you can take to ensure you are hiring employees who are as committed to safety as you are.<o:p></o:p></span></p>\n\n<p>&nbsp\;</p>\n\n<p>&nbsp\;</p>\n
LOCATION:Presented via ZOOM meeting. Login information will be sent when you register.
UID:e.3083.7347
SEQUENCE:3
DTSTAMP:20260425T134533Z
URL:https://members.longmontchamber.org/events/details/2020-05-06-zoom-safety-training-managing-safety-through-good-hiring-practices-7347
END:VEVENT

END:VCALENDAR
