BEGIN:VCALENDAR
VERSION:2.0
PRODID:-//ChamberMaster//Event Calendar 2.0//EN
METHOD:PUBLISH
X-PUBLISHED-TTL:P3D
REFRESH-INTERVAL:P3D
CALSCALE:GREGORIAN
BEGIN:VEVENT
DTSTART:20201118T180000Z
DTEND:20201118T190000Z
X-MICROSOFT-CDO-ALLDAYEVENT:FALSE
SUMMARY:2020-11-18 Safety Training\, "Effective Safety Training"
DESCRIPTION:Longmont Area Chamber of Commerce / Pinnacol Assurance Safety Training\n\nTopic: Effective Safety Training\n\nPresented by Trent Brewer\, Pinnacol Assurance\n\n\n\nMaking safety training effective and relevant can not only save time and money\, it can also increase employee retention and reduce the necessity of conducting the same training over and over. Pinnacol wants to help you get the most out of the time and effort you allocate to training your employees.\n\nThis course will teach you:\n\n\n	Benefits of conducting effective safety training.\n	How to effectively get your safety message to employees and make it stick.\n	Instructional techniques to make training more fun and impactful\n	Ideas to create effective safety training materials
X-ALT-DESC;FMTTYPE=text/html:<p><span style="font-family:tahoma\;"><span style="font-size:14px\;"><font color="#343434"><b>Longmont Area Chamber of Commerce /&nbsp\;Pinnacol Assurance&nbsp\;Safety Training<br />\nTopic: Effective Safety Training<br />\nPresented by Trent Brewer\, Pinnacol Assurance</b></font></span></span><br />\n<br />\n<span style="font-family:arial\,sans-serif\;"><span style="font-size:12.0pt\;">Making safety training effective and relevant can not only save time and money\, it can also increase employee retention and reduce the necessity of conducting the same training over and over. Pinnacol wants to help you get the most out of the time and effort you allocate to training your employees.</span></span><br />\n<span style="font-family:arial\,sans-serif\;"><span style="font-size:12.0pt\;">This course will teach you:</span></span></p>\n\n<ul>\n	<li style="background:white\;"><span style="font-family:arial\,sans-serif\;"><span style="font-size:12.0pt\;">Benefits of conducting effective safety training.</span></span></li>\n	<li style="background:white\;"><span style="font-family:arial\,sans-serif\;"><span style="font-size:12.0pt\;">How to effectively get your safety message to employees and make it stick.</span></span></li>\n	<li style="background:white\;"><span style="font-family:arial\,sans-serif\;"><span style="font-size:12.0pt\;">Instructional techniques to make training more fun and impactful</span></span></li>\n	<li style="background:white\;"><span style="font-family:arial\,sans-serif\;"><span style="font-size:12.0pt\;">Ideas to create effective safety training materials</span></span></li>\n</ul>\n\n<p>&nbsp\;</p>\n
LOCATION:This will be a Zoom webinar. Login will be sent upon registration.
UID:e.3083.7349
SEQUENCE:3
DTSTAMP:20260425T034633Z
URL:https://members.longmontchamber.org/events/details/2020-11-18-safety-training-effective-safety-training-7349
END:VEVENT

END:VCALENDAR
