BEGIN:VCALENDAR
VERSION:2.0
PRODID:-//ChamberMaster//Event Calendar 2.0//EN
METHOD:PUBLISH
X-PUBLISHED-TTL:P3D
REFRESH-INTERVAL:P3D
CALSCALE:GREGORIAN
BEGIN:VEVENT
DTSTART:20201202T180000Z
DTEND:20201202T190000Z
X-MICROSOFT-CDO-ALLDAYEVENT:FALSE
SUMMARY:2020-12-02 Safety Training\, "COVID-19 Response"
DESCRIPTION:Longmont Area Chamber of Commerce / Pinnacol Assurance Safety Training\n\nTopic: COVID-19 Response\n\nPresented by Trent Brewer\, Pinnacol Assurance\n\n\n\nWorkplace controls for COVID exposures are visible to customers\, employees and regulatory authorities. Ensuring that appropriate controls have been implemented and are being maintained in your workplace is critically important to the continued health and welfare of your business. The goal of this training is to review safeguards for the protection of employees\, customers and ultimately\, your business's reputation.
X-ALT-DESC;FMTTYPE=text/html:<p><span style="font-family:tahoma\;"><span style="font-size:14px\;"><font color="#343434"><b>Longmont Area Chamber of Commerce /&nbsp\;Pinnacol Assurance&nbsp\;Safety Training<br />\nTopic: COVID-19 Response<br />\nPresented by Trent Brewer\, Pinnacol Assurance</b></font></span></span><br />\n<br />\nWorkplace controls for COVID exposures are visible to customers\, employees and regulatory authorities. Ensuring that appropriate controls have been implemented and are being maintained in your workplace is critically important to the continued health and welfare of your business. The goal of this training is to review safeguards for the protection of employees\, customers and ultimately\, your business&rsquo\;s reputation.<br />\n&nbsp\;</p>\n
LOCATION:ZOOM Event
UID:e.3083.7698
SEQUENCE:3
DTSTAMP:20260425T022850Z
URL:https://members.longmontchamber.org/events/details/2020-12-02-safety-training-covid-19-response-7698
END:VEVENT

END:VCALENDAR
