BEGIN:VCALENDAR
VERSION:2.0
PRODID:-//ChamberMaster//Event Calendar 2.0//EN
METHOD:PUBLISH
X-PUBLISHED-TTL:P3D
REFRESH-INTERVAL:P3D
CALSCALE:GREGORIAN
BEGIN:VEVENT
DTSTART:20210203T180000Z
DTEND:20210203T190000Z
X-MICROSOFT-CDO-ALLDAYEVENT:FALSE
SUMMARY:2021-02-03 Workers Comp Safety Training "Job Hazard Analysis"
DESCRIPTION:Wednesday\, February 3\, 2021\n\n"Job Hazard Analysis" presented by Trent Brewer\, Pinnacol Assurance\n\n11am-12pm Zoom webinar\n\nJob Hazard Analysis will help policyholders:\n\n	Identify hazards associated with job tasks\n	Determine ways to either eliminate or reduce the hazards\n	Identify potential safety training topics\n	Create specific safety rules for your organization \n\nPolicyholders will learn the three steps to conducting a Job Hazard Analysis (JHA).
X-ALT-DESC;FMTTYPE=text/html:Wednesday\, February 3\, 2021<br />\n&quot\;Job Hazard Analysis&quot\; presented by Trent Brewer\, Pinnacol Assurance<br />\n11am-12pm Zoom webinar<br />\nJob Hazard Analysis will help policyholders:\n<ul>\n	<li>Identify hazards associated with job tasks</li>\n	<li>Determine ways to either eliminate or reduce the hazards</li>\n	<li>Identify potential safety training topics</li>\n	<li>Create specific safety rules for your organization&nbsp\;</li>\n</ul>\nPolicyholders will learn the three steps to conducting a Job Hazard Analysis (JHA).<br />\n&nbsp\;
LOCATION:Zoom webinar instructions will be sent following your registration.
UID:e.3083.7754
SEQUENCE:3
DTSTAMP:20260425T005230Z
URL:https://members.longmontchamber.org/events/details/2021-02-03-workers-comp-safety-training-job-hazard-analysis-7754
END:VEVENT

END:VCALENDAR
