BEGIN:VCALENDAR
VERSION:2.0
PRODID:-//ChamberMaster//Event Calendar 2.0//EN
METHOD:PUBLISH
X-PUBLISHED-TTL:P3D
REFRESH-INTERVAL:P3D
CALSCALE:GREGORIAN
BEGIN:VEVENT
DTSTART:20210505T170000Z
DTEND:20210505T180000Z
X-MICROSOFT-CDO-ALLDAYEVENT:FALSE
SUMMARY:2021-05-05 Workers Comp Safety Training: Cost Containment Certification
DESCRIPTION:Wednesday\, May 5\, 2021\n\nCost Containment Certification.  Presented by Trent Brewer\, Pinnacol Assurance\n\n11am-12pm Zoom webinar\n\n\n\nThis training is geared toward businesses that have not yet obtained their certification.\n\nThe State of Colorado's Cost Containment Certification Program is available to Colorado businesses that have implemented formal safety programs to protect their workers. This virtual group discussion event will cover the benefits and requirements of the program\, how to submit for certification\, and how to request free assistance with the process. Participants will be encouraged to ask specific questions about how certification can help their business thrive.\n\n \n\nIn addition\, Nevine Laughlin\, Pinnacol Assurance Return to Work Consulting Director\, will give a brief explanation of the Modified Duty option of working for a nonprofit:\n\nClaim costs can skyrocket when modified duty isn't available at your worksite.  We will discuss how modified duty at a local nonprofit organization can be a key cost containment tool and a win/win for all!
X-ALT-DESC;FMTTYPE=text/html:<p>Wednesday\, May 5\, 2021<br />\nCost Containment Certification.&nbsp\; Presented by Trent Brewer\, Pinnacol Assurance<br />\n11am-12pm Zoom webinar<br />\n<br />\nThis <span style="font-family:arial\,sans-serif\;"><span style="font-size:11.0pt\;">training is geared toward businesses that have not yet obtained their certification.</span></span></p>\n\n<p>The State of Colorado&#39\;s Cost Containment Certification Program is available to Colorado businesses that have implemented formal safety programs to protect their workers. This virtual group discussion event will cover the benefits and requirements of the program\, how to submit for certification\, and how to request free assistance with the process. Participants will be encouraged to ask specific questions about how certification can help their business thrive.<br />\n&nbsp\;<br />\nIn addition\, Nevine Laughlin\, Pinnacol Assurance Return to Work Consulting Director\, will give a brief explanation of the Modified Duty option of working for a nonprofit:<br />\nClaim costs can skyrocket when modified duty isn&#39\;t available at your worksite.&nbsp\; We will discuss how modified duty at a local nonprofit organization can be a key cost containment tool and a win/win for all!&nbsp\;<br />\n&nbsp\;</p>\n
LOCATION:Zoom webinar instructions will be sent after registering for the training.
UID:e.3083.8181
SEQUENCE:3
DTSTAMP:20260424T170318Z
URL:https://members.longmontchamber.org/events/details/2021-05-05-workers-comp-safety-training-cost-containment-certification-8181
END:VEVENT

END:VCALENDAR
