BEGIN:VCALENDAR
VERSION:2.0
PRODID:-//ChamberMaster//Event Calendar 2.0//EN
METHOD:PUBLISH
X-PUBLISHED-TTL:P3D
REFRESH-INTERVAL:P3D
CALSCALE:GREGORIAN
BEGIN:VEVENT
DTSTART:20210908T170000Z
DTEND:20210908T180000Z
X-MICROSOFT-CDO-ALLDAYEVENT:FALSE
SUMMARY:2021-09-08: Workers Comp Safety Training "Safety Through Effective Leadership"
DESCRIPTION:Safety Through Effective Leadership\n\nPresented by Trent Brewer\, Pinnacol Assurance\n\nSuccessful business leaders empower their employees to make decisions\, speak up about concerns and take ownership of the work they do each day. Business owners\, effective managers and supervisors also see their employees as the solution for workplace safety concerns. Learn how fostering trust\, engaging in active listening and demonstrating care and concern for employees can help build a culture of safety.
X-ALT-DESC;FMTTYPE=text/html:<strong>Safety Through Effective Leadership</strong><br />\n<em>Presented by Trent Brewer\, Pinnacol Assurance</em><br />\n<span style="font-family:arial\;"><span style="font-size:14px\;"><span style="color:black\;">Successful business leaders empower their employees to make decisions\, speak up about concerns and take ownership of the work they do each day. Business owners\, effective managers and supervisors also see their employees as the solution for workplace safety concerns. Learn how fostering trust\, engaging in active listening and demonstrating care and concern for employees can help build a culture of safety.</span></span></span><br />\n&nbsp\;<br />\n&nbsp\;
LOCATION:Zoom webinar instructions will be sent closer to the event.
UID:e.3083.8182
SEQUENCE:3
DTSTAMP:20260424T110319Z
URL:https://members.longmontchamber.org/events/details/2021-09-08-workers-comp-safety-training-safety-through-effective-leadership-8182
END:VEVENT

END:VCALENDAR
