BEGIN:VCALENDAR
VERSION:2.0
PRODID:-//ChamberMaster//Event Calendar 2.0//EN
METHOD:PUBLISH
X-PUBLISHED-TTL:P3D
REFRESH-INTERVAL:P3D
CALSCALE:GREGORIAN
BEGIN:VEVENT
DTSTART:20211103T170000Z
DTEND:20211103T180000Z
X-MICROSOFT-CDO-ALLDAYEVENT:FALSE
SUMMARY:2021-11-03 Workers Comp Safety Training: “Investigating Behaviors of Concern”
DESCRIPTION:"Investigating Behaviors of Concern"\n\nPresented by Dylan Lang and Trent Brewer of Pinnacol Assurance\n\nWednesday\, November 3\, 2021\n\n11am-noon\n\nZoom Webinar\nAttendees will gain awareness of threat management terms and concepts\, including the pathway to violence and the importance of a workplace violence prevention program.\n\nThey will also receive a brief overview on investigating behaviors of concern and identifying violence potential in others.
X-ALT-DESC;FMTTYPE=text/html:<h3 style="margin-top:0in\;margin-right:0in\;margin-bottom:10.5pt\;margin-left:0in\;line-height:15.95pt\;"><span style="font-family:century gothic\,sans-serif\;"><span style="font-size:11.0pt\;">&ldquo\;Investigating Behaviors of Concern&rdquo\;<br />\nPresented by Dylan Lang and Trent Brewer of Pinnacol Assurance</span></span></h3>\n\n<h3 style="margin-top:0in\;margin-right:0in\;margin-bottom:10.5pt\;margin-left:0in\;line-height:15.95pt\;"><span style="font-family:century gothic\,sans-serif\;"><span style="font-size:11.0pt\;">Wednesday\, November 3\, 2021<br />\n11am-noon<br />\nZoom Webinar</span></span></h3>\n<span style="font-family:century gothic\,sans-serif\;">Attendees will gain awareness of threat management terms and concepts\, including the pathway to violence and the importance of a workplace violence prevention program.<br />\nThey will also receive a brief overview on investigating behaviors of concern and identifying violence potential in others.</span><br />\n<br />\n&nbsp\;
LOCATION:Zoom webinar instructions will be sent following your registration.
UID:e.3083.8183
SEQUENCE:3
DTSTAMP:20260424T091537Z
URL:https://members.longmontchamber.org/events/details/2021-11-03-workers-comp-safety-training-investigating-behaviors-of-concern-8183
END:VEVENT

END:VCALENDAR
