BEGIN:VCALENDAR
VERSION:2.0
PRODID:-//ChamberMaster//Event Calendar 2.0//EN
METHOD:PUBLISH
X-PUBLISHED-TTL:P3D
REFRESH-INTERVAL:P3D
CALSCALE:GREGORIAN
BEGIN:VEVENT
DTSTART:20220202T180000Z
DTEND:20220202T190000Z
X-MICROSOFT-CDO-ALLDAYEVENT:FALSE
SUMMARY:2022-02-02 Workers Comp Safety Training "Driver Safety"
DESCRIPTION:Driver Safety\, presented by Pinnacol Assurance\n\nFebruary 2\, 2022 from 11am-12pm\n\nMost people have been driving for such a long time that they neglect to look out for situations that can get them into real trouble. This course will provide insight into identifying and anticipating hazards encountered when driving. It offers new ideas that will protect you and others while on the road.\n\nTopics include:\n\n\n	Increasing awareness of safe driving behaviors\n	Insights into identifying and anticipating road hazards\n\n\nAll Chamber members are invited to join our quarterly safety trainings\, a part of our Pinnacol Assurance workers compensation safety program.  For more information email Kathy Stevens.
X-ALT-DESC;FMTTYPE=text/html:<p><span style="font-size:12px\;"><span style="font-family:tahoma\;">Driver&nbsp\;Safety\, presented by Pinnacol Assurance</span></span></p>\n\n<p><span style="font-size:12px\;"><span style="font-family:tahoma\;">February 2\, 2022 from 11am-12pm<br />\nMost people have been driving for such a long time that they neglect to look out for situations that can get them into real trouble. This course will provide insight into identifying and anticipating hazards encountered when driving. It offers new ideas that will protect you and others while on the road.<br />\nTopics include:</span></span></p>\n\n<ul>\n	<li style="line-height:17.3pt\;box-sizing:border-box\;"><span style="font-size:12px\;"><span style="font-family:tahoma\;">Increasing awareness of safe driving behaviors</span></span></li>\n	<li style="line-height:17.3pt\;box-sizing:border-box\;"><span style="font-size:12px\;"><span style="font-family:tahoma\;">Insights into identifying and anticipating road hazards</span></span></li>\n</ul>\n\n<p><span style="font-size:12px\;"><span style="font-family:tahoma\;">All Chamber members are invited to join our quarterly safety trainings\, a part of our Pinnacol Assurance workers compensation safety program.&nbsp\; For more information email <a href="mailto:kstevens@longmontchamber.org?subject=Information%20on%20safety%20program&amp\;body=Hello%2C%0APlease%20contact%20me%20regarding%20the%20Pinnacol%20Assurance%20workers%20compensation%20safety%20program.%20%20I%20want%20to%20learn%20more%20about%20saving%20on%20my%20Pinnacol%20workers%20comp%20premium.%0A">Kathy Stevens</a>.</span></span></p>\n
LOCATION:You will receive the Zoom link upon registration.
UID:e.3083.8651
SEQUENCE:3
DTSTAMP:20260424T030928Z
URL:https://members.longmontchamber.org/events/details/2022-02-02-workers-comp-safety-training-driver-safety-8651
END:VEVENT

END:VCALENDAR
