BEGIN:VCALENDAR
VERSION:2.0
PRODID:-//ChamberMaster//Event Calendar 2.0//EN
METHOD:PUBLISH
X-PUBLISHED-TTL:P3D
REFRESH-INTERVAL:P3D
CALSCALE:GREGORIAN
BEGIN:VEVENT
DTSTART:20220504T170000Z
DTEND:20220504T180000Z
X-MICROSOFT-CDO-ALLDAYEVENT:FALSE
SUMMARY:2022-05-04 Workers Comp Safety Training - "Walking Working Surfaces"
DESCRIPTION:Workers Comp Safety Training\n\nWednesday\, May 4\, 2022\, 11am-noon\n\nZoom event\n\nTopic: Walking Working Surfaces\n\nPresented by Trent Brewer\, Pinnacol Assurance\n\n\n\nWalking/working surfaces cover any exposure to an employee that can lead to a slip\, trip or fall regardless of industry. This can include slippery or icy conditions\, poor housekeeping\, fall from height hazards and much more. Employers need to consider these risks in the workplace and educate employees on how to identify the hazards and reduce their exposure.\n\n\n\nAll Chamber members are invited to join our quarterly safety trainings\, a part of our Pinnacol Assurance workers compensation safety program.  For more information email Kathy Stevens.
X-ALT-DESC;FMTTYPE=text/html:<p>Workers Comp Safety Training<br />\nWednesday\, May 4\, 2022\, 11am-noon<br />\nZoom event<br />\nTopic: Walking Working Surfaces<br />\nPresented by Trent Brewer\, Pinnacol Assurance</p>\n\n<p><br />\n<span style="background:white\;"><span style="color:black\;"><span style="font-family:arial\,sans-serif\;">Walking/working surfaces cover any exposure to an employee that can lead to a slip\, trip or fall regardless of industry. This can include slippery or icy conditions\, poor housekeeping\, fall from height hazards and much more. Employers need to consider these risks in the workplace and educate employees on how to identify the hazards and reduce their exposure.</span></span></span><br />\n<br />\n<span style="font-size: 11px\; font-family: tahoma\;">All Chamber members are invited to join our quarterly safety trainings\, a part of our Pinnacol Assurance workers compensation safety program.&nbsp\; For more information email </span><a href="mailto:kstevens@longmontchamber.org?subject=Information%20on%20safety%20program&amp\;body=Hello%2C%0APlease%20contact%20me%20regarding%20the%20Pinnacol%20Assurance%20workers%20compensation%20safety%20program.%20%20I%20want%20to%20learn%20more%20about%20saving%20on%20my%20Pinnacol%20workers%20comp%20premium.%0A" style="font-size: 11px\; font-family: tahoma\;">Kathy Stevens</a><span style="font-size: 11px\; font-family: tahoma\;">.</span></p>\n
LOCATION:Zoom training.
UID:e.3083.8652
SEQUENCE:3
DTSTAMP:20260423T223317Z
URL:https://members.longmontchamber.org/events/details/2022-05-04-workers-comp-safety-training-walking-working-surfaces-8652
END:VEVENT

END:VCALENDAR
