BEGIN:VCALENDAR
VERSION:2.0
PRODID:-//ChamberMaster//Event Calendar 2.0//EN
METHOD:PUBLISH
X-PUBLISHED-TTL:P3D
REFRESH-INTERVAL:P3D
CALSCALE:GREGORIAN
BEGIN:VEVENT
DTSTART:20220817T170000Z
DTEND:20220817T181500Z
X-MICROSOFT-CDO-ALLDAYEVENT:FALSE
SUMMARY:2022-08-17 Workers Comp Safety Training: New Hire Challenges and Employee Onboarding Discussion
DESCRIPTION:Workers Comp Safety Training\n\nNew Hire Challenges and Employee Onboarding Discussion\n\n11am-12:15pm\n\nAt the Chamber\n\nA recent review of workers compensation claims shows businesses across the board are seeing a clear trend: recently hired workers are significantly more likely to be injured on the job. Join us for a safety-focused discussion on new employee hiring and onboarding practices. \n\n Have you ever wondered which hiring controls are considered essential protections for business? Bring your questions\, concerns and expertise to our safety group discussion event. We'll identify the essential controls your business should have in place when hiring and onboarding new employees A Pinnacol consultant will be on hand to facilitate the discussion\, ask and answer questions\, review regulatory requirements\, and provide free resources and services for safety group members.\n\n \n\nAll Chamber members are invited to join our quarterly safety trainings\, a part of our Pinnacol Assurance workers compensation safety program.  For more information email Kathy Stevens.
X-ALT-DESC;FMTTYPE=text/html:<p>Workers Comp Safety Training<br />\nNew Hire Challenges and Employee Onboarding Discussion<br />\n11am-12:15pm<br />\nAt the Chamber<br />\nA recent review of&nbsp\;workers compensation claims shows businesses across the board are seeing a clear trend: recently hired workers are significantly more likely to be injured on the job. Join us for a safety-focused discussion on new employee hiring and onboarding practices.&nbsp\;<br />\n&nbsp\;Have you ever wondered which hiring controls are considered essential protections for business? Bring your questions\, concerns and expertise to our safety group discussion event. We&#39\;ll identify the essential controls your business should have in place when hiring and onboarding new employees A Pinnacol consultant will be on hand to facilitate the discussion\, ask and answer questions\, review regulatory requirements\, and provide free resources and services for safety group members.<br />\n&nbsp\;</p>\n\n<p>All Chamber members are invited to join our quarterly safety trainings\, a part of our Pinnacol Assurance workers compensation safety program.&nbsp\; For more information email <a href="mailto:kstevens@longmontchamber.org?subject=Information%20on%20safety%20program&amp\;body=Hello%2C%0APlease%20contact%20me%20regarding%20the%20Pinnacol%20Assurance%20workers%20compensation%20safety%20program.%20%20I%20want%20to%20learn%20more%20about%20saving%20on%20my%20Pinnacol%20workers%20comp%20premium.%0A">Kathy Stevens</a>.</p>\n
LOCATION:In person at the Chamber 528 Main Street Longmont\, CO 80501
UID:e.3083.8654
SEQUENCE:3
DTSTAMP:20260423T175903Z
URL:https://members.longmontchamber.org/events/details/2022-08-17-workers-comp-safety-training-new-hire-challenges-and-employee-onboarding-discussion-8654
END:VEVENT

END:VCALENDAR
