BEGIN:VCALENDAR
VERSION:2.0
PRODID:-//ChamberMaster//Event Calendar 2.0//EN
METHOD:PUBLISH
X-PUBLISHED-TTL:P3D
REFRESH-INTERVAL:P3D
CALSCALE:GREGORIAN
BEGIN:VEVENT
DTSTART:20221102T070000Z
DTEND:20221102T200000Z
X-MICROSOFT-CDO-ALLDAYEVENT:FALSE
SUMMARY:2022-11-02 Workers Comp Safety Training - Topic Strain Injuries in the Workplace
DESCRIPTION:Workers Comp Safety Training\n\nWednesday\, November 2\, 2022\n\nTopic: Strain Injuries in the Workplace\n\nPresented by: Monica Cabrera\, Pinnacol Assurance\n\nChamber Conference Room\n\n528 Main Street\n\nLongmont CO 80501\n\n \n\nAll Chamber members are invited to join our quarterly safety trainings\, a part of our Pinnacol Assurance workers compensation safety program.  For more information email Kathy Stevens.\n\n\n\nTwo-hour parking east of the Chamber.  If full\, free parking is available to the east in the neighborhood.
X-ALT-DESC;FMTTYPE=text/html:<p>Workers Comp Safety Training<br />\nWednesday\, November 2\, 2022<br />\nTopic: Strain Injuries in the Workplace<br />\nPresented by:&nbsp\;<strong><span style="font-family:arial narrow\,sans-serif\;"><span style="font-size:11.0pt\;"><span style="font-weight:normal\;"><span style="font-family:arial\,sans-serif\;">Monica Cabrera\, Pinnacol Assurance<br />\nChamber Conference Room<br />\n528 Main Street<br />\nLongmont CO 80501</span></span></span></span></strong><br />\n&nbsp\;</p>\n\n<p>All Chamber members are invited to join our quarterly safety trainings\, a part of our Pinnacol Assurance workers compensation safety program.&nbsp\; For more information email <a href="mailto:kstevens@longmontchamber.org?subject=Information%20on%20safety%20program&amp\;body=Hello%2C%0APlease%20contact%20me%20regarding%20the%20Pinnacol%20Assurance%20workers%20compensation%20safety%20program.%20%20I%20want%20to%20learn%20more%20about%20saving%20on%20my%20Pinnacol%20workers%20comp%20premium.%0A">Kathy Stevens</a>.<br />\n<br />\nTwo-hour parking east of the Chamber.&nbsp\; If full\, free parking is available to the east in the neighborhood.</p>\n
LOCATION:Chamber Conference Room 28 Main Street Longmont CO 80501
UID:e.3083.8655
SEQUENCE:3
DTSTAMP:20260423T131000Z
URL:https://members.longmontchamber.org/events/details/2022-11-02-workers-comp-safety-training-topic-strain-injuries-in-the-workplace-8655
END:VEVENT

END:VCALENDAR
