BEGIN:VCALENDAR
VERSION:2.0
PRODID:-//ChamberMaster//Event Calendar 2.0//EN
METHOD:PUBLISH
X-PUBLISHED-TTL:P3D
REFRESH-INTERVAL:P3D
CALSCALE:GREGORIAN
BEGIN:VEVENT
DTSTART:20250225T150000Z
DTEND:20250225T190000Z
X-MICROSOFT-CDO-ALLDAYEVENT:FALSE
SUMMARY:2025 Advance Longmont Economic Summit
DESCRIPTION:Powering the Future: Navigating Economic Trends\n\n\n\nWhat to Expect\n\n	State of the Industry Report\n	Quantum Primer and Essential Insights for Business and Industry\n	Economic Forecast and Demographic Trends\n	Networking with the Brightest Minds in Business\n\nCOME HUNGRY\n\nBreakfast will be served.  And so will a generous portion of key insights that will guide you through 2025 and beyond.  Registration required.  Register here: https://longmont.org/summit/
X-ALT-DESC;FMTTYPE=text/html:<strong>Powering the Future: Navigating Economic Trends</strong><br />\n<br />\nWhat to Expect\n<ul>\n	<li>State of the Industry Report</li>\n	<li>Quantum Primer and Essential Insights for Business and Industry</li>\n	<li>Economic Forecast and Demographic Trends</li>\n	<li>Networking with the Brightest Minds in Business</li>\n</ul>\nCOME HUNGRY<br />\nBreakfast will be served.&nbsp\; And so will a generous portion of key insights that will guide you through 2025 and beyond.&nbsp\; Registration required.&nbsp\; Register here:&nbsp\;<a href="https://longmont.org/summit/">https://longmont.org/summit/</a>
LOCATION:Longmont Museum
UID:e.3083.10763
SEQUENCE:3
DTSTAMP:20260421T190139Z
URL:https://members.longmontchamber.org/events/details/2025-advance-longmont-economic-summit-10763
END:VEVENT

END:VCALENDAR
