BEGIN:VCALENDAR
VERSION:2.0
PRODID:-//ChamberMaster//Event Calendar 2.0//EN
METHOD:PUBLISH
X-PUBLISHED-TTL:P3D
REFRESH-INTERVAL:P3D
CALSCALE:GREGORIAN
BEGIN:VEVENT
DTSTART:20250607T180000Z
DTEND:20250607T230000Z
X-MICROSOFT-CDO-ALLDAYEVENT:FALSE
SUMMARY:2nd ANNUAL ELEVATED COMMUNITIES GOLF TOURNAMENT FUNDRAISER!
DESCRIPTION:REGISTRATION IS NOW OPEN!\n\n\n\nANNOUNCING OUR 2nd ANNUAL ELEVATED COMMUNITIES GOLF TOURNAMENT FUNDRAISER!\n\n\n\nDATE: June 7\, 2025\n\nTIME: Registration starts at 7:30 AM\n\nLOCATION: Ute Creek Golf Course\, 2000 Ute Creek Dr\, Longmont\, CO 80504\n\n\n\nBe a part of our golf tournament and help us raise funds for a great cause!\n\n\n\nSign up today by visiting the link below:\n\n\n\nREGISTER HERE: https://tinyurl.com/37xrsmsc\n\n\n\nDon't miss this exciting opportunity to support\n\nour community and enjoy a day of golfing fun!\n\n\n\nSpots are limited so register early to\n\nsecure your spot and be part of this fantastic event!\n\n\n\nLet's come together and make a difference! See you on the green!\n\n\n\n#ElevatedCommunities #GolfTournament #Fundraiser #CommunitySupport
X-ALT-DESC;FMTTYPE=text/html:REGISTRATION IS NOW OPEN!<br />\n<br />\nANNOUNCING OUR 2nd ANNUAL ELEVATED COMMUNITIES GOLF TOURNAMENT FUNDRAISER!<br />\n<br />\nDATE: June 7\, 2025<br />\nTIME: Registration starts at 7:30 AM<br />\nLOCATION: Ute Creek Golf Course\, 2000 Ute Creek Dr\, Longmont\, CO 80504<br />\n<br />\nBe a part of our golf tournament and help us raise funds for a great cause!<br />\n<br />\nSign up today by visiting the link below:<br />\n<br />\nREGISTER HERE: <a href="https://l.facebook.com/l.php?u=https%3A%2F%2Ftinyurl.com%2F37xrsmsc%3Ffbclid%3DIwZXh0bgNhZW0CMTAAAR1eQxvfDGjakn0J6sAHvo-p2pH-qs2pE1DNCurSxgrSWB4C3278XvQak8c_aem_kDbcBQL62u0xOCujDDluXA&amp\;h=AT2NWtBKuFoeZ_6NQgrG4DFauFtFQPzlysSfZbYQ7RFI0q8cTunAIA6IsVfpIyp-0o2ry9I1c2nMl7TZbspIreAPSKfPGAkuO2pdXGuXYsMDAs0ItEgvFJ1ASf6KJds-dmO4TMTdr8dbXw&amp\;__tn__=-UK-R&amp\;c%5b0%5d=AT1btpd2vWJg2M4RTbe2g6JE2WX1JPdapxnnGAtZgo64vsgl4bqDM_v32UlVYbeZ13LE7fC_HxVVj3V8rO034EAasV9zo705-YihBTgGiRehm-Mg_Aq3TWFEqJ5sJnQ4VJ02GPCWlnzQ7Lg0iGB4okin2YsVFxv6w_e0PvXaNli4" target="_blank">https://tinyurl.com/37xrsmsc</a><br />\n<br />\nDon&#39\;t miss this exciting opportunity to support<br />\nour community and enjoy a day of golfing fun!<br />\n<br />\nSpots are limited so register early to<br />\nsecure your spot and be part of this fantastic event!<br />\n<br />\nLet&#39\;s come together and make a difference! See you on the green!<br />\n<br />\n<span style="font-family:aptos\,sans-serif"><span style="font-size:12.0pt"><a href="https://www.facebook.com/hashtag/elevatedcommunities?__eep__=6&amp\;__cft__%5b0%5d=AZWc1KVNuxEG3wZEiUzeJ5zfpoFS9es68EL7Ew_gviMx71yiNFHxikLx6NQ9rbHpXluF8TQ5ozvCXqfmY-O4Smv5xOl99JuxvIo5dbiiz127XfxNcAojVxfQ9ia9X_NqIUOgA8esUx8o6qQPpEKMp3x8&amp\;__tn__=*NK-R">#ElevatedCommunities</a> <a href="https://www.facebook.com/hashtag/golftournament?__eep__=6&amp\;__cft__%5b0%5d=AZWc1KVNuxEG3wZEiUzeJ5zfpoFS9es68EL7Ew_gviMx71yiNFHxikLx6NQ9rbHpXluF8TQ5ozvCXqfmY-O4Smv5xOl99JuxvIo5dbiiz127XfxNcAojVxfQ9ia9X_NqIUOgA8esUx8o6qQPpEKMp3x8&amp\;__tn__=*NK-R">#GolfTournament</a> <a href="https://www.facebook.com/hashtag/fundraiser?__eep__=6&amp\;__cft__%5b0%5d=AZWc1KVNuxEG3wZEiUzeJ5zfpoFS9es68EL7Ew_gviMx71yiNFHxikLx6NQ9rbHpXluF8TQ5ozvCXqfmY-O4Smv5xOl99JuxvIo5dbiiz127XfxNcAojVxfQ9ia9X_NqIUOgA8esUx8o6qQPpEKMp3x8&amp\;__tn__=*NK-R">#Fundraiser</a> <a href="https://www.facebook.com/hashtag/communitysupport?__eep__=6&amp\;__cft__%5b0%5d=AZWc1KVNuxEG3wZEiUzeJ5zfpoFS9es68EL7Ew_gviMx71yiNFHxikLx6NQ9rbHpXluF8TQ5ozvCXqfmY-O4Smv5xOl99JuxvIo5dbiiz127XfxNcAojVxfQ9ia9X_NqIUOgA8esUx8o6qQPpEKMp3x8&amp\;__tn__=*NK-R">#CommunitySupport</a></span></span>
LOCATION:Ute Creek Golf Course
UID:e.3083.12676
SEQUENCE:3
DTSTAMP:20260421T111157Z
URL:https://members.longmontchamber.org/events/details/2nd-annual-elevated-communities-golf-tournament-fundraiser-12676
END:VEVENT

END:VCALENDAR
