BEGIN:VCALENDAR
VERSION:2.0
PRODID:-//ChamberMaster//Event Calendar 2.0//EN
METHOD:PUBLISH
X-PUBLISHED-TTL:P3D
REFRESH-INTERVAL:P3D
CALSCALE:GREGORIAN
BEGIN:VEVENT
DTSTART:20250913T190000Z
DTEND:20250913T220000Z
X-MICROSOFT-CDO-ALLDAYEVENT:FALSE
SUMMARY:4th Annual Chili Cook Off! | The Inn Between
DESCRIPTION:Get ready to turn up the HEAT on homelessness!\n\n	Prizes\n	Silent Auction\n	Live Music with Mackenzie Rae & Buckshot Moon\n\n$15 - Tasting Ticket - Unlimited sampling of all chilis and vote for your favorite - get tickets here
X-ALT-DESC;FMTTYPE=text/html:<br />\n<span style="font-size:20px\;">Get ready to turn up the HEAT on homelessness!</span>\n<ul>\n	<li><span style="font-size:20px\;">Prizes</span></li>\n	<li><span style="font-size:20px\;">Silent Auction</span></li>\n	<li><span style="font-size:20px\;">Live Music with Mackenzie Rae &amp\; Buckshot Moon</span></li>\n</ul>\n<span style="font-size:16px\;">$15 - Tasting Ticket - Unlimited sampling of all chilis and vote for your favorite - get tickets&nbsp\;<a href="https://www.theinnbetween.org/cookoff-reg?blm_aid=49099778">here</a></span>
LOCATION:Bootstrap Brewery
UID:e.3083.14249
SEQUENCE:3
DTSTAMP:20260421T081023Z
URL:https://members.longmontchamber.org/events/details/4th-annual-chili-cook-off-the-inn-between-14249
END:VEVENT

END:VCALENDAR
