BEGIN:VCALENDAR
VERSION:2.0
PRODID:-//ChamberMaster//Event Calendar 2.0//EN
METHOD:PUBLISH
X-PUBLISHED-TTL:P3D
REFRESH-INTERVAL:P3D
CALSCALE:GREGORIAN
BEGIN:VEVENT
DTSTART:20240818T220000Z
DTEND:20240818T231500Z
X-MICROSOFT-CDO-ALLDAYEVENT:FALSE
SUMMARY:5 Keys to Strengthen Any Relationship: Learn to Turn Conflict into Golden Opportunities of Growth and Connection
DESCRIPTION:When conflicts go unresolved\, hurt and disconnect accumulate\, injuring the relationship. However\, there's another equally possible reality. Conflict is natural\, and with the right tools\, it can be resolved in a way that makes both partners feel seen\, validated\, and heard. Imagine walking away from a disagreement with a deeper understanding of each other and satisfaction with the outcome.  Discover the healthiest ways to resolve conflict and transform it into a golden opportunity for growth and connection.
X-ALT-DESC;FMTTYPE=text/html:<p><span style="background-color:transparent\; color:rgb(0\, 0\, 0)\; font-family:arial\,sans-serif\; font-size:12pt">When conflicts go unresolved\, hurt and disconnect accumulate\, injuring the relationship. However\, there&#39\;s another equally possible reality. Conflict is natural\, and with the right tools\, it can be resolved in a way that makes both partners feel seen\, validated\, and heard. Imagine walking away from a disagreement with a deeper understanding of each other and satisfaction with the outcome.&nbsp\; Discover the healthiest ways to resolve conflict and transform it into a golden opportunity for growth and connection.</span></p>\n\n<div>&nbsp\;</div>\n
LOCATION:Longmont Social 2025 Ionosphere St\, Longmont\, CO 80504
UID:e.3083.10188
SEQUENCE:3
DTSTAMP:20260422T032653Z
URL:https://members.longmontchamber.org/events/details/5-keys-to-strengthen-any-relationship-learn-to-turn-conflict-into-golden-opportunities-of-growth-and-connection-10188
END:VEVENT

END:VCALENDAR
