BEGIN:VCALENDAR
VERSION:2.0
PRODID:-//ChamberMaster//Event Calendar 2.0//EN
METHOD:PUBLISH
X-PUBLISHED-TTL:P3D
REFRESH-INTERVAL:P3D
CALSCALE:GREGORIAN
BEGIN:VEVENT
DTSTART:20221222T230000Z
DTEND:20221223T010000Z
X-MICROSOFT-CDO-ALLDAYEVENT:FALSE
SUMMARY:6th Annual Gentlemen's Whiskey Tasting and Shopping Event - Snow Apparel
DESCRIPTION:Thursday\, December 22\, 2022 (Snow Apparel 4:00pm - 6:00pm)\n\n \n\n\n\nJoin us on Thursday December 22\, 2022 4:00 pm - 6:00 pm for our 6th Annual Gentlemen's Shopping Event. This year we are excited to share with you\, our favorite craft whiskeys from Longmont's popular DRY LAND DISTILLERS!  DRY LAND Distillers produce unique spirits inspired by Colorado's landscapes. Pick up a SNOW Apparel gift card for the ladies on your holiday gift list and taste these award winning whiskeys representing the authentic flavors of the American West. Together we can shop small and sip slow at SNOW! \n\n \n\n\n"6th Annual Gentlemen's Whiskey Tasting and Shopping Event!" \n\nTHURSDAY DECEMBER 22\, 2022 \n\n4:00 pm - 6:00 pm (Over 21 Only)\n\n520 Main Street\, Suite B1\, Longmont\, Colorado 80501
X-ALT-DESC;FMTTYPE=text/html:<div><span style="color:inherit\; font-family:calibri\,helvetica\,sans-serif\,serif\,emojifont\; font-size:inherit"><strong>Thursday\, December 22\, 2022 (Snow Apparel 4:00pm - 6:00pm)</strong></span></div>\n\n<div>&nbsp\;</div>\n\n<div>\n<div>\n<div>Join us on Thursday December 22\, 2022 4:00 pm - 6:00 pm for our 6th Annual Gentlemen&#39\;s&nbsp\;Shopping Event. This year we are excited to share with you\, our favorite craft whiskeys from Longmont&#39\;s popular<span style="color:inherit">&nbsp\;</span><strong>DRY LAND DISTILLERS!&nbsp\;<span style="color:inherit">&nbsp\;</span></strong>DRY LAND Distillers produce unique spirits inspired by Colorado&#39\;s landscapes. Pick up a SNOW Apparel gift card for the ladies on your holiday gift list and taste these award winning whiskeys representing the authentic flavors of the American West.<span style="color:inherit">&nbsp\;</span><strong><em>Together we can shop small and sip slow at SNOW!</em></strong>&nbsp\;</div>\n\n<div>&nbsp\;</div>\n\n<div>\n<div><strong>&quot\;</strong><em><strong><u>6th Annual</u>&nbsp\;<u>Gentlemen&#39\;s Whiskey Tasting and Shopping Event!&quot\;</u></strong></em>&nbsp\;</div>\n\n<div><strong>THURSDAY DECEMBER 22\, 2022&nbsp\;</strong></div>\n\n<div><strong>4:00 pm - 6:00 pm (Over 21 Only)</strong></div>\n\n<div><strong>520 Main Street\, Suite B1\, Longmont\, Colorado 80501</strong></div>\n</div>\n</div>\n</div>\n
LOCATION:520 Main Street\, Suite B1 Longmont\, CO 80501
UID:e.3083.9258
SEQUENCE:3
DTSTAMP:20260423T113727Z
URL:https://members.longmontchamber.org/events/details/6th-annual-gentlemen-s-whiskey-tasting-and-shopping-event-snow-apparel-9258
END:VEVENT

END:VCALENDAR
