BEGIN:VCALENDAR
VERSION:2.0
PRODID:-//ChamberMaster//Event Calendar 2.0//EN
METHOD:PUBLISH
X-PUBLISHED-TTL:P3D
REFRESH-INTERVAL:P3D
CALSCALE:GREGORIAN
BEGIN:VEVENT
DTSTART:20230715T140000Z
DTEND:20230715T183000Z
X-MICROSOFT-CDO-ALLDAYEVENT:FALSE
SUMMARY:7th Annual MSCH Sporting Clay Tournament
DESCRIPTION:Join us for a morning of great sportsmanship for a worthy cause! The 2023 Sporting Clay Tournament to benefit Mountain States Children's Home needs you in the stand! Register here as an individual or bring some friends and fill out a squad. Breakfast and lunch will be provided for all registered participants\, and you have your chance to win one of our wonderful door prizes. Break a few clays\, and you're in the running for our overall prizes.
X-ALT-DESC;FMTTYPE=text/html:<span style="background-color:rgb(248\, 248\, 248)\; color:rgb(33\, 37\, 41)\; font-family:-apple-system\,blinkmacsystemfont\,segoe ui\,roboto\,helvetica neue\,arial\,noto sans\,sans-serif\,apple color emoji\,segoe ui emoji\,segoe ui symbol\,noto color emoji\; font-size:14px">Join us for a morning of great sportsmanship for a worthy cause! The 2023 Sporting Clay Tournament to benefit Mountain States Children&#39\;s Home needs you in the stand! Register <a href="https://mschclays.maxgiving.bid/about-us">here</a> as an individual or bring some friends and fill out a squad. Breakfast and lunch will be provided for all registered participants\, and you have your chance to win one of our wonderful door prizes. Break a few clays\, and you&#39\;re in the running for our overall prizes.&nbsp\;</span>
LOCATION:Colorado Clays Shooting Park in Brighton
UID:e.3083.9722
SEQUENCE:3
DTSTAMP:20260423T021516Z
URL:https://members.longmontchamber.org/events/details/7th-annual-msch-sporting-clay-tournament-9722
END:VEVENT

END:VCALENDAR
