BEGIN:VCALENDAR
VERSION:2.0
PRODID:-//ChamberMaster//Event Calendar 2.0//EN
METHOD:PUBLISH
X-PUBLISHED-TTL:P3D
REFRESH-INTERVAL:P3D
CALSCALE:GREGORIAN
BEGIN:VEVENT
DTSTART:20241207T210000Z
DTEND:20241208T030000Z
X-MICROSOFT-CDO-ALLDAYEVENT:FALSE
SUMMARY:7th Annual 'Nog Off Eggnog Competition!
DESCRIPTION:The 7th Annual 'Nog Off is back! Join Dry Land Distillers and five guest participants to vote on your favorite eggnog! A competitive\, delicious\, community oriented holiday tradition!\n\nWe will release a LIMITED number of flights at 2pm and another round at 6pm\, and expect seats to fill up quickly!\n\nAll six nog recipes have been developed with care\, flare\, craft\, tradition\, and our handcrafted spirits. \n\nOur featured participants include: Pie Dog Pizza\, Juniper Goods\, Red Cedar Bistro\, Gafner Hospitality Group of Ember\, and Pakway Food Hall all local companies who have opened within the last year!\n\nPut on your blindfolds\, sip flavors of the holidays\, join in community\, and vote for your favorite!
X-ALT-DESC;FMTTYPE=text/html:<p><span style="font-family:arial\,helvetica\,sans-serif">The 7th Annual &#39\;Nog Off is back! Join Dry Land Distillers and five guest participants to vote on your favorite eggnog! A competitive\, delicious\, community oriented holiday tradition!</span></p>\n\n<p><span style="font-family:arial\,helvetica\,sans-serif">We will release a LIMITED number of flights at 2pm and another round at 6pm\, and expect seats to fill up quickly!</span></p>\n\n<p>All six nog recipes have been developed with care\, flare\, craft\, tradition\, and our handcrafted spirits.&nbsp\;</p>\n\n<p>Our featured participants include:&nbsp\;<a href="https://www.piedogpizza.com/" style="box-sizing: border-box\; color: rgba(var(--bs-link-color-rgb)\,var(--bs-link-opacity\,1))\;">Pie Dog Pizza</a>\,&nbsp\;<a href="https://junipergoods.co/" style="box-sizing: border-box\; color: rgba(var(--bs-link-color-rgb)\,var(--bs-link-opacity\,1))\;">Juniper Goods</a>\,&nbsp\;<a href="https://redcedarbistro.com/" style="box-sizing: border-box\; color: rgba(var(--bs-link-color-rgb)\,var(--bs-link-opacity\,1))\;">Red Cedar Bistro</a>\, <a href="https://gafnergroup.com/" style="box-sizing: border-box\; color: rgba(var(--bs-link-color-rgb)\,var(--bs-link-opacity\,1))\;">Gafner Hospitality Group</a>&nbsp\;of&nbsp\;<a href="https://emberestespark.com/" style="box-sizing: border-box\; color: rgba(var(--bs-link-color-rgb)\,var(--bs-link-opacity\,1))\;">Ember</a>\, and <a href="https://parkwayfoodhall.com/">Pakway Food Hall</a> all local companies who have opened within the last year!</p>\n\n<p>Put on your blindfolds\, sip flavors of the holidays\, join in community\, and vote for your favorite!</p>\n
LOCATION:Dry Land Distillers
UID:e.3083.10500
SEQUENCE:3
DTSTAMP:20260421T222732Z
URL:https://members.longmontchamber.org/events/details/7th-annual-nog-off-eggnog-competition-10500
END:VEVENT

END:VCALENDAR
