BEGIN:VCALENDAR
VERSION:2.0
PRODID:-//ChamberMaster//Event Calendar 2.0//EN
METHOD:PUBLISH
X-PUBLISHED-TTL:P3D
REFRESH-INTERVAL:P3D
CALSCALE:GREGORIAN
BEGIN:VEVENT
DTSTART:20220410T030000Z
DTEND:20220410T050000Z
X-MICROSOFT-CDO-ALLDAYEVENT:FALSE
SUMMARY:80's Funk and Food - The Spring Walkabout Unofficial After Party
DESCRIPTION:Imagine the 80's\, but somehow better.\n\nMichael Jackson. Prince.\n\nHot pockets. Bangkok fried rice balls. Chicken & Waffles. Disco Fries.\n\nSomething about Orange Creamsicles plus booze.\n\n$20 gets you in the door with two drink tickets\, two food tickets\, and and access to the best dance party all night.\n\n(Tickets will be $25 at the door. Additional food & drink will be available for purchase)
X-ALT-DESC;FMTTYPE=text/html:<p>Imagine the 80&#39\;s\, but somehow better.</p>\n\n<p>Michael Jackson. Prince.</p>\n\n<p>Hot pockets. Bangkok fried rice balls. Chicken &amp\; Waffles. Disco Fries.</p>\n\n<p>Something about Orange Creamsicles plus booze.</p>\n\n<p>$20 gets you in the door with two drink tickets\, two food tickets\, and and access to the best dance party all night.</p>\n\n<p>(Tickets will be $25 at the door. Additional food &amp\; drink will be available for purchase)</p>\n
LOCATION:The Times Collaborative 338 Main St
UID:e.3083.8676
SEQUENCE:3
DTSTAMP:20260424T000524Z
URL:https://members.longmontchamber.org/events/details/80-s-funk-and-food-the-spring-walkabout-unofficial-after-party-8676
END:VEVENT

END:VCALENDAR
