BEGIN:VCALENDAR
VERSION:2.0
PRODID:-//ChamberMaster//Event Calendar 2.0//EN
METHOD:PUBLISH
X-PUBLISHED-TTL:P3D
REFRESH-INTERVAL:P3D
CALSCALE:GREGORIAN
BEGIN:VEVENT
DTSTART:20250618T150000Z
DTEND:20250619T000000Z
X-MICROSOFT-CDO-ALLDAYEVENT:FALSE
SUMMARY:ADULT FIELD TRIP to Waterworld
DESCRIPTION:Adult Field Trip to Water World!  \n\nWednesday\, June 18th | 9:00 AM   6:30 PM\n\nRegister Here [Link to Registration]\n\nHop on the Brewhop Trolley with us for a full day of sun\, slides\, and shenanigans!\n\nWe'll meet at Quarters Bar + Arcade at 9:00 AM\, then head to Water World for a day of fun. We'll return around 6:30 PM.\n\n   $100 per person   includes:\n\n\n	\n	Round-trip trolley transportation\n	\n	\n	Admission to Water World\n	\n	\n	All-day food pass\n	\n	\n	Access to a private pavilion\n	\n	\n	Snacks & drinks for the ride home\n	\n\n\nSpots are limited   grab your ticket now!
X-ALT-DESC;FMTTYPE=text/html:<p data-end="168" data-start="77"><span style="font-size:18px\;"><strong data-end="119" data-start="77">&#127906\; Adult Field Trip to Water World! &#127754\;</strong><br data-end="122" data-start="119" />\n<strong data-end="166" data-start="122">Wednesday\, June 18th | 9:00 AM &ndash\; 6:30 PM<br />\nRegister Here <a href="https://gotab.io/loc/quartersbararcade#"><span style="color:#40E0D0\;">[Link to Registration]</span></a></strong></span></p>\n\n<p data-end="390" data-start="170">Hop on the Brewhop Trolley with us for a full day of sun\, slides\, and shenanigans!<br data-end="255" data-start="252" />\nWe&rsquo\;ll meet at <strong data-end="294" data-start="269">Quarters Bar + Arcade</strong> at <strong data-end="309" data-start="298">9:00 AM</strong>\, then head to <strong data-end="339" data-start="324">Water World</strong> for a day of fun. We&#39\;ll return around <strong data-end="389" data-start="378">6:30 PM</strong>.</p>\n\n<p data-end="429" data-start="392">&#127903\;&#65039\; <strong data-end="415" data-start="396">$100 per person</strong> &ndash\; includes:</p>\n\n<ul data-end="587" data-start="430">\n	<li data-end="467" data-start="430">\n	<p data-end="467" data-start="432">Round-trip trolley transportation</p>\n	</li>\n	<li data-end="496" data-start="468">\n	<p data-end="496" data-start="470">Admission to Water World</p>\n	</li>\n	<li data-end="518" data-start="497">\n	<p data-end="518" data-start="499">All-day food pass</p>\n	</li>\n	<li data-end="551" data-start="519">\n	<p data-end="551" data-start="521">Access to a private pavilion</p>\n	</li>\n	<li data-end="587" data-start="552">\n	<p data-end="587" data-start="554">Snacks &amp\; drinks for the ride home</p>\n	</li>\n</ul>\n\n<p data-end="634" data-start="589"><strong data-end="634" data-start="589">Spots are limited &ndash\; grab your ticket now!</strong></p>\n
LOCATION:
UID:e.3083.13552
SEQUENCE:3
DTSTAMP:20260421T111556Z
URL:https://members.longmontchamber.org/events/details/adult-field-trip-to-waterworld-13552
END:VEVENT

END:VCALENDAR
