BEGIN:VCALENDAR
VERSION:2.0
PRODID:-//ChamberMaster//Event Calendar 2.0//EN
METHOD:PUBLISH
X-PUBLISHED-TTL:P3D
REFRESH-INTERVAL:P3D
CALSCALE:GREGORIAN
BEGIN:VEVENT
DTSTART:20210304T223000Z
DTEND:20210305T000000Z
X-MICROSOFT-CDO-ALLDAYEVENT:FALSE
SUMMARY:Advancing Excellence: Don Haddad examines SVVSD growth in student achievement
DESCRIPTION:ADVANCING EXCELLENCE\nSt. Vrain Valley Schools' systemic approach to equity and academic growth is providing a strong competitive advantage for all students to achieve success in a complex\, globalized world.\n\n\n\nJoin SVVSD's superintendent\, Don Haddad\, Ed.D.\, in examining St. Vrain Valley Schools' growth in student achievement and dedication to equity.\n\n\n\nAgenda/Outline (30-45 minutes)\n\nFoundations\n\n\n	 Teaching Strategies GOLD \n	Reading and Mathematics\n	Algebra 1 and transitional supports\n\nInnovation\n\n\n	Focus Programming\n	Advanced coursework\n	College Credit Opportunities\n	Student Engagement and attendance\n\nPostsecondary Readiness\n\n\n	SAT\n	Graduation Rates/Drop out rates\n	Expulsion data\n\n\nQ/A (10-20 minutes)
X-ALT-DESC;FMTTYPE=text/html:<p><strong>ADVANCING EXCELLENCE</strong></p>\nSt. Vrain Valley Schools&#39\; systemic approach to equity and academic growth is providing a strong competitive advantage for all students to achieve success in a complex\, globalized world.<br />\n<br />\nJoin SVVSD&#39\;s superintendent\, Don Haddad\, Ed.D.\, in examining St. Vrain Valley Schools&#39\; growth in student achievement and dedication to equity.<br />\n<br />\n<strong>Agenda/Outline (30-45 minutes)<br />\nFoundations</strong>\n\n<ul>\n	<li>&#8203\;Teaching Strategies GOLD&reg\;</li>\n	<li>Reading and Mathematics</li>\n	<li>Algebra 1 and transitional supports</li>\n</ul>\n<strong>Innovation</strong>\n\n<ul>\n	<li>Focus Programming</li>\n	<li>Advanced coursework</li>\n	<li>College Credit Opportunities</li>\n	<li>Student Engagement and attendance</li>\n</ul>\n<strong>Postsecondary Readiness</strong>\n\n<ul>\n	<li>SAT</li>\n	<li>Graduation Rates/Drop out rates</li>\n	<li>Expulsion data</li>\n</ul>\n\n<p><strong>Q/A (10-20 minutes)</strong></p>\n
LOCATION:No Registration Required. Please click to join Zoom Meeting on March 4 at 3:15pm: https://us02web.zoom.us/j/82913061046?pwd=WnlVUWJLU0I1Zm1WOWxNbnFnSGtjQT09 Meeting ID: 829 1306 1046 Passcode: 621008 One tap mobile +16699006833\,\,82913061046#\,\,\,\,*621008# Dial in by phone: 669-900-6833 Meeting ID: 829 1306 1046 Passcode: 621008
UID:e.3083.7791
SEQUENCE:3
DTSTAMP:20260424T220028Z
URL:https://members.longmontchamber.org/events/details/advancing-excellence-don-haddad-examines-svvsd-growth-in-student-achievement-7791
END:VEVENT

END:VCALENDAR
