BEGIN:VCALENDAR
VERSION:2.0
PRODID:-//ChamberMaster//Event Calendar 2.0//EN
METHOD:PUBLISH
X-PUBLISHED-TTL:P3D
REFRESH-INTERVAL:P3D
CALSCALE:GREGORIAN
BEGIN:VEVENT
DTSTART:20250528T220000Z
DTEND:20250529T030000Z
X-MICROSOFT-CDO-ALLDAYEVENT:FALSE
SUMMARY:All Day Happy Hour at Dry Land Distillers!
DESCRIPTION:Join us for our All Day Happy Hour on Wednesdays and Thursdays from 4 to 9 PM!\n\n \n\nWe're featuring $11 rotating margaritas\, mojitos\, gimlets\, and other seasonal favorites selected by the bar team mixologists\, as well as freshly made and discounted small plate pairings by our exquisite and creative kitchen staff.\n\n \n\nGather your comrades\, co-workers\, family\, friends\, favorites\, familiars\, and not yet known but soon to be pals and add some sparkle to the mid-week palate!\n\n \n\nView our full happy hour menu here.\n\n\n\nSee you on the patio or in the lounge for thoughtfully crafted cocktails and small plates that suit your mood and fancy!\n\nWe are grateful to have you as part of our community!
X-ALT-DESC;FMTTYPE=text/html:<div><span style="color:rgb(52\, 73\, 94)\; font-size:12pt">Join us for our All Day Happy Hour on Wednesdays and Thursdays from 4 to 9 PM!</span></div>\n\n<div>&nbsp\;</div>\n\n<div><span style="color:rgb(52\, 73\, 94)\; font-size:12pt">We&#39\;re featuring $11 rotating margaritas\, mojitos\, gimlets\, and other seasonal favorites selected by the bar team mixologists\, as well as freshly made and discounted small plate pairings by our exquisite and creative kitchen staff.</span></div>\n\n<div>&nbsp\;</div>\n\n<div><span style="color:rgb(52\, 73\, 94)\; font-size:12pt">Gather your comrades\, co-workers\, family\, friends\, favorites\, familiars\, and not yet known but soon to be pals and add some sparkle to the mid-week palate!</span></div>\n\n<div>&nbsp\;</div>\n\n<div><span style="font-size:18px\;"><strong><a href="https://www.drylanddistillers.com/blogs/events/happy-hour" rel="noopener" style="color: rgb(52\, 73\, 94)\; margin: 0px\; outline: none\; padding: 0px\; text-decoration: inherit\;" target="_blank"><span style="color:#008080\;">View our full happy hour menu here.</span></a></strong></span></div>\n\n<p><br />\n<span style="color:rgb(52\, 73\, 94)\; font-family:arial\,helvetica\,sans-serif\; font-size:12pt">See you on the patio or in the lounge for thoughtfully crafted cocktails and small plates that suit your mood and fancy!</span></p>\n\n<p><span style="color:rgb(52\, 73\, 94)\; font-family:arial\,helvetica\,sans-serif\; font-size:12pt">We are grateful to have you as part of our community!</span></p>\n
LOCATION:Dry Land Distillers
UID:e.3083.13464
SEQUENCE:3
DTSTAMP:20260421T130741Z
URL:https://members.longmontchamber.org/events/details/all-day-happy-hour-at-dry-land-distillers-05-28-2025-13464
END:VEVENT

END:VCALENDAR
