BEGIN:VCALENDAR
VERSION:2.0
PRODID:-//ChamberMaster//Event Calendar 2.0//EN
METHOD:PUBLISH
X-PUBLISHED-TTL:P3D
REFRESH-INTERVAL:P3D
CALSCALE:GREGORIAN
BEGIN:VEVENT
DTSTART:20260111T220000Z
DTEND:20260112T020000Z
X-MICROSOFT-CDO-ALLDAYEVENT:FALSE
SUMMARY:All Day Rosé
DESCRIPTION:Enjoy 20% off all bottles of ros  every Sunday at the Kuper!
X-ALT-DESC;FMTTYPE=text/html:<br />\n<span style="font-size:20px\;"><span style="font-size:22px\;">Enjoy 20% off all bottles of ros&eacute\; every Sunday at the Kuper!</span></span>
LOCATION:Kuper Wine Bar
UID:e.3083.11984
SEQUENCE:3
DTSTAMP:20260421T003037Z
URL:https://members.longmontchamber.org/events/details/all-day-ros&#233;-01-11-2026-11984
END:VEVENT

END:VCALENDAR
