BEGIN:VCALENDAR
VERSION:2.0
PRODID:-//ChamberMaster//Event Calendar 2.0//EN
METHOD:PUBLISH
X-PUBLISHED-TTL:P3D
REFRESH-INTERVAL:P3D
CALSCALE:GREGORIAN
BEGIN:VEVENT
DTSTART:20210726T230000Z
DTEND:20210727T010000Z
X-MICROSOFT-CDO-ALLDAYEVENT:FALSE
SUMMARY:Alliday Celebration - All Members Invited!
DESCRIPTION:We missed a lot last year\, so why not celebrate everything at once? Join us July 26 at 5pm for the Longmont Chamber Alliday celebration! This holiday-themed networking event will be held outside on the BBQ patio and pool deck at the brand new Clovis Point Apartments complex. This event features:\n\n	Live music!\n	Tacos and ice cream!\n	Beer\, wine and spirits!\n	A silent auction!\n	Cake and more!\n\nAll members are invited! The Longmont Chamber golf tournament will take place the morning of the Alliday party\, and golfers and sponsors will have access to an exclusive lounge upstairs in the Clovis Point clubhouse.
X-ALT-DESC;FMTTYPE=text/html:We missed a lot last year\, so why not celebrate everything at once? Join us July 26 at 5pm for the Longmont Chamber Alliday celebration! This holiday-themed networking event will be held outside on the BBQ patio and pool deck at the brand new Clovis Point Apartments complex. This event features:\n<ul>\n	<li>Live music!</li>\n	<li>Tacos and ice cream!</li>\n	<li>Beer\, wine and spirits!</li>\n	<li>A silent auction!</li>\n	<li>Cake and more!</li>\n</ul>\n<strong>All members are invited!</strong> The Longmont Chamber golf tournament will take place the morning of the Alliday party\, and golfers and sponsors will have access to an exclusive lounge upstairs in the Clovis Point clubhouse.
LOCATION:Clovis Point Apartments 1855 Lefthand Creek Ln Longmont\, CO 80501 Event will be held on the pool deck\, patio\, and clubhouse. Exclusive golfer and sponsor lounge located upstairs.
UID:e.3083.8460
SEQUENCE:3
DTSTAMP:20260424T135845Z
URL:https://members.longmontchamber.org/events/details/alliday-celebration-all-members-invited-8460
END:VEVENT

END:VCALENDAR
