BEGIN:VCALENDAR
VERSION:2.0
PRODID:-//ChamberMaster//Event Calendar 2.0//EN
METHOD:PUBLISH
X-PUBLISHED-TTL:P3D
REFRESH-INTERVAL:P3D
CALSCALE:GREGORIAN
BEGIN:VEVENT
DTSTART:20241109T180000Z
DTEND:20241109T210000Z
X-MICROSOFT-CDO-ALLDAYEVENT:FALSE
SUMMARY:Almuerzo y aprendizaje latino de High Plains Bank para personas sin cuenta bancaria
DESCRIPTION:About the Event:\n\n\n\nEstan invitados!  Unete a nosotros para un almuerzo gratis y aprende con High Plains Bank.\n\n\n\nYou are invited!  Join us for a free Lunch and Learn with High Plains Bank.\n\n\n\nAprende lo facil que es abrir una cuenta con nosotros!  Con o sin ITIN!  Socios de recursos en espa ol en el lugar para ayudarlo a responder preguntas y/o abrir una cuenta.\n\n\n\nTraer lo siguiente para abrir su cuenta:  Indenticacion vigente de su pais o Su pasaporte y ITIN (Opcional)\n\n\n\nLearn how easy it is to open an account - with or without an ITIN!\n\n\n\nTo open an account please bring:  Unexpired ID card from your home country or A passport plus your ITIN (Optional).\n\n\n\nTodos son Bienvenidos!  Actividades para ninos!\n\n\n\nAll are welcome!  Activities for Children!\n\n\n\nSabado\, Noviembre 9\, 2024 De 11:00 AM - 2:00 PM\n\n\n\nSaturday\, November 9\, 2024 from 11:00 AM - 2:00 PM
X-ALT-DESC;FMTTYPE=text/html:About the Event:<br />\n<br />\nEstan invitados!&nbsp\; Unete a nosotros para un almuerzo gratis y aprende con High Plains Bank.<br />\n<br />\nYou are invited!&nbsp\; Join us for a free Lunch and Learn with High Plains Bank.<br />\n<br />\nAprende lo facil que es abrir una cuenta con nosotros!&nbsp\; Con o sin ITIN!&nbsp\;&nbsp\;Socios de recursos en espa&ntilde\;ol en el lugar para ayudarlo a responder preguntas y/o abrir una cuenta.<br />\n<br />\nTraer lo siguiente para abrir su cuenta:&nbsp\; Indenticacion vigente de su pais o Su pasaporte y ITIN (Opcional)<br />\n<br />\nLearn how easy it is to open an account - with or without an ITIN!<br />\n<br />\nTo open an account please bring:&nbsp\; Unexpired ID card from your home country or A passport plus your ITIN (Optional).<br />\n<br />\nTodos son Bienvenidos!&nbsp\; Actividades para ninos!<br />\n<br />\nAll are welcome!&nbsp\; Activities for Children!<br />\n<br />\nSabado\, Noviembre 9\, 2024 De 11:00 AM - 2:00 PM<br />\n<br />\nSaturday\, November 9\, 2024 from 11:00 AM - 2:00 PM
LOCATION:High Plains Bank
UID:e.3083.10286
SEQUENCE:3
DTSTAMP:20260421T223943Z
URL:https://members.longmontchamber.org/events/details/almuerzo-y-aprendizaje-latino-de-high-plains-bank-para-personas-sin-cuenta-bancaria-10286
END:VEVENT

END:VCALENDAR
