BEGIN:VCALENDAR
VERSION:2.0
PRODID:-//ChamberMaster//Event Calendar 2.0//EN
METHOD:PUBLISH
X-PUBLISHED-TTL:P3D
REFRESH-INTERVAL:P3D
CALSCALE:GREGORIAN
BEGIN:VEVENT
DTSTART:20210511T140000Z
DTEND:20210511T150000Z
X-MICROSOFT-CDO-ALLDAYEVENT:FALSE
SUMMARY:Ambassadors Meeting
DESCRIPTION:As of May 3\, we are transitioning to in-person and hybrid committee meetings. Committee meetings held at the Longmont Chamber will accommodate a limited number of people\, and virtual registration is still available. Please be aware of the following safety precautions before you arrive:\n\n\n	Capacity for this event is capped at 7. Members must register in advance to attend.\n	Be sure to bring a mask\, regardless of whether or not you have received a full dose of a COVID-19 vaccine.\n\n\nPlease note that when you register for this event\, you will be asked whether or not you have received a full course of a COVID-19 vaccine (two shots of either Pfizer or Moderna\, one shot of Johnson & Johnson). This information will help us be more inclusive of our more cautious members who would like to engage in chamber activities. We will not exclude members based on their vaccine status. You can decline to answer. If you have any questions\, please contact Longmont Chamber CEO Scott Cook at scook@longmontchamber.org.\n\n\n\nThank you for your support in creating a safe gathering!\n\n \n\nAbout Ambassadors\n\nAmbassadors are an enthusiastic team of dedicated volunteers and members who facilitate and set the welcoming tone at programs and events for the Longmont Area Chamber of Commerce.\n\nThis meeting\, every second Tuesday of the month\, is meant to inspire and inform Ambassadors so they can better engage members.\n\nBeing an Ambassador is a great way to more deeply engage in the Longmont Chamber and its events while getting to know your fellow Chamber Members.
X-ALT-DESC;FMTTYPE=text/html:<p>As of May 3\, we are transitioning to in-person and hybrid committee meetings. Committee meetings held at the Longmont Chamber will accommodate a limited number of people\, and virtual registration is still available. Please be aware of the following safety precautions before you arrive:</p>\n\n<ul>\n	<li><strong>Capacity for this event is capped at 7.&nbsp\;</strong>Members must register in advance to attend.</li>\n	<li><strong>Be sure to bring a mask</strong>\, regardless of whether or not you have received a full dose of a COVID-19 vaccine.</li>\n</ul>\n\n<p><strong>Please note that when you register for this event\, you will be asked whether or not you have received a full course of a COVID-19 vaccine</strong>&nbsp\;(two shots of either Pfizer or Moderna\, one shot of Johnson &amp\; Johnson). This information will help us be more inclusive of our more cautious members who would like to engage in chamber activities.&nbsp\;We will not exclude members based on their vaccine status.&nbsp\;You can decline to answer. If you have any questions\, please contact Longmont Chamber CEO Scott Cook at <a href="mailto:scook@longmontchamber.org">scook@longmontchamber.org</a>.<br />\n<br />\nThank you for your support in creating a safe gathering!<br />\n&nbsp\;</p>\n\n<h4><strong>About Ambassadors</strong></h4>\n\n<p>Ambassadors are an enthusiastic team of dedicated volunteers and members who facilitate and set the welcoming tone at programs and events for the Longmont Area Chamber of Commerce.</p>\n\n<p>This meeting\, every second Tuesday of the month\, is meant to inspire and inform Ambassadors so they can better engage members.</p>\n\n<p>Being an Ambassador is a great way to more deeply engage in the Longmont Chamber and its events while getting to know your fellow Chamber Members.</p>\n
LOCATION:Hybrid event. Must register to attend in-person. Longmont Area Chamber of Commerce Conference Room 528 Main Street Longmont
UID:e.3083.4334
SEQUENCE:3
DTSTAMP:20260424T184211Z
URL:https://members.longmontchamber.org/events/details/ambassadors-meeting-05-11-2021-4334
END:VEVENT

END:VCALENDAR
