BEGIN:VCALENDAR
VERSION:2.0
PRODID:-//ChamberMaster//Event Calendar 2.0//EN
METHOD:PUBLISH
X-PUBLISHED-TTL:P3D
REFRESH-INTERVAL:P3D
CALSCALE:GREGORIAN
BEGIN:VEVENT
DTSTART:20250506T140000Z
DTEND:20250506T150000Z
X-MICROSOFT-CDO-ALLDAYEVENT:FALSE
SUMMARY:Ambassadors Meeting
DESCRIPTION:SPECIAL EVENT DATE & LOCATION CHANGE!!!\n\n\n\nTo get prepared to support our Golf Tournament on May 12th - we will be doing a special EARLY Ambassador meeting on the first Tuesday of May at La Mariposa Restaurant! \n\n\n\nGet ready to enjoy some delicious catering and fun planning for our premier event\, Golf Tournament 2025!\n\n\n\nAmbassadors are an enthusiastic team of dedicated volunteers and members who facilitate and set the welcoming tone at programs and events for the Longmont Area Chamber of Commerce.\n\nThis meeting\, every second Tuesday of the month\, is meant to inspire and inform Ambassadors so they can better engage members.\n\nBeing an Ambassador is a great way to more deeply engage in the Longmont Chamber and its events while getting to know your fellow Chamber Members.\n\n\n\nPlease email Wendi at wbraden@longmontchamber.org to attend!
X-ALT-DESC;FMTTYPE=text/html:<p><strong>SPECIAL EVENT DATE &amp\; LOCATION CHANGE!!!<br />\n<br />\nTo get prepared to support our Golf Tournament on May 12th - we will be doing a special EARLY Ambassador meeting on the first Tuesday of May at La Mariposa Restaurant!&nbsp\;<br />\n<br />\nGet ready to enjoy some delicious catering and fun planning for our premier event\, Golf Tournament 2025!</strong><br />\n<br />\nAmbassadors are an enthusiastic team of dedicated volunteers and members who facilitate and set the welcoming tone at programs and events for the Longmont Area Chamber of Commerce.</p>\n\n<p>This meeting\, every second Tuesday of the month\, is meant to inspire and inform Ambassadors so they can better engage members.</p>\n\n<p>Being an Ambassador is a great way to more deeply engage in the Longmont Chamber and its events while getting to know your fellow Chamber Members.<br />\n<br />\nPlease email Wendi at wbraden@longmontchamber.org to attend!</p>\n
LOCATION:SPECIAL LOCATION! La Mariposa Restaurant
UID:e.3083.4382
SEQUENCE:3
DTSTAMP:20260421T142912Z
URL:https://members.longmontchamber.org/events/details/ambassadors-meeting-05-13-2025-4382
END:VEVENT

END:VCALENDAR
