BEGIN:VCALENDAR
VERSION:2.0
PRODID:-//ChamberMaster//Event Calendar 2.0//EN
METHOD:PUBLISH
X-PUBLISHED-TTL:P3D
REFRESH-INTERVAL:P3D
CALSCALE:GREGORIAN
BEGIN:VEVENT
DTSTART:20210608T140000Z
DTEND:20210608T150000Z
X-MICROSOFT-CDO-ALLDAYEVENT:FALSE
SUMMARY:Ambassadors Meeting
DESCRIPTION:Ambassadors are an enthusiastic team of dedicated volunteers and members who facilitate and set the welcoming tone at programs and events for the Longmont Area Chamber of Commerce.\n\nThis meeting\, every second Tuesday of the month\, is meant to inspire and inform Ambassadors so they can better engage members.\n\nBeing an Ambassador is a great way to more deeply engage in the Longmont Chamber and its events while getting to know your fellow Chamber Members.\n\n\n\nThis event is a hybrid event! Please select how you would like to participate (in-person or virtual) when you register.\n\n\n\nPlease note that when you register for this event\, you will be asked whether or not you have received a full course of a COVID-19 vaccine (two shots of either Pfizer or Moderna\, one shot of Johnson & Johnson). This information will help us be more inclusive of our more cautious members who would like to engage in chamber activities. We will not exclude members based on their vaccine status. You can decline to answer. If you have any questions\, please contact Longmont Chamber CEO Scott Cook at scook@longmontchamber.org.\n\n\n\nThank you for your support in creating a safe gathering!
X-ALT-DESC;FMTTYPE=text/html:<p>Ambassadors are an enthusiastic team of dedicated volunteers and members who facilitate and set the welcoming tone at programs and events for the Longmont Area Chamber of Commerce.</p>\n\n<p>This meeting\, every second Tuesday of the month\, is meant to inspire and inform Ambassadors so they can better engage members.</p>\n\n<p>Being an Ambassador is a great way to more deeply engage in the Longmont Chamber and its events while getting to know your fellow Chamber Members.<br />\n<br />\n<strong>This event is a hybrid event! Please select how you would like to participate (in-person or virtual) when you register.</strong><br />\n<br />\nPlease note that when you register for this event\, you will be asked whether or not you have received a full course of a COVID-19 vaccine&nbsp\;(two shots of either Pfizer or Moderna\, one shot of Johnson &amp\; Johnson). This information will help us be more inclusive of our more cautious members who would like to engage in chamber activities.&nbsp\;We will not exclude members based on their vaccine status.&nbsp\;You can decline to answer. If you have any questions\, please contact Longmont Chamber CEO Scott Cook at&nbsp\;<a href="mailto:scook@longmontchamber.org">scook@longmontchamber.org</a>.<br />\n<br />\nThank you for your support in creating a safe gathering!</p>\n
LOCATION:Hybrid. Virtual attendance information will be sent with registration. In-person attendance will be at: Longmont Area Chamber of Commerce Conference Room 528 Main Street Longmont
UID:e.3083.4335
SEQUENCE:3
DTSTAMP:20260424T155031Z
URL:https://members.longmontchamber.org/events/details/ambassadors-meeting-06-08-2021-4335
END:VEVENT

END:VCALENDAR
