BEGIN:VCALENDAR
VERSION:2.0
PRODID:-//ChamberMaster//Event Calendar 2.0//EN
METHOD:PUBLISH
X-PUBLISHED-TTL:P3D
REFRESH-INTERVAL:P3D
CALSCALE:GREGORIAN
BEGIN:VEVENT
DTSTART:20220607T140000Z
DTEND:20220607T150000Z
X-MICROSOFT-CDO-ALLDAYEVENT:FALSE
SUMMARY:Ambassadors Meeting
DESCRIPTION:Ambassadors are an enthusiastic team of dedicated volunteers and members who facilitate and set the welcoming tone at programs and events for the Longmont Area Chamber of Commerce.\n\nThis meeting\, every Second Tuesday of the month (moved one week in June)\, is meant to inspire and inform Ambassadors so they can better engage members.\n\nBeing an Ambassador is a great way to more deeply engage in the Longmont Chamber and its events while getting to know your fellow Chamber Members.
X-ALT-DESC;FMTTYPE=text/html:<p>Ambassadors are an enthusiastic team of dedicated volunteers and members who facilitate and set the welcoming tone at programs and events for the Longmont Area Chamber of Commerce.</p>\n\n<p>This meeting\, every Second Tuesday of the month (moved one week in June)\, is meant to inspire and inform Ambassadors so they can better engage members.</p>\n\n<p>Being an Ambassador is a great way to more deeply engage in the Longmont Chamber and its events while getting to know your fellow Chamber Members.</p>\n
LOCATION:Longmont Area Chamber of Commerce Conference Room 528 Main Street Longmont
UID:e.3083.4347
SEQUENCE:3
DTSTAMP:20260423T204550Z
URL:https://members.longmontchamber.org/events/details/ambassadors-meeting-06-14-2022-4347
END:VEVENT

END:VCALENDAR
