BEGIN:VCALENDAR
VERSION:2.0
PRODID:-//ChamberMaster//Event Calendar 2.0//EN
METHOD:PUBLISH
X-PUBLISHED-TTL:P3D
REFRESH-INTERVAL:P3D
CALSCALE:GREGORIAN
BEGIN:VEVENT
DTSTART:20260714T140000Z
DTEND:20260714T150000Z
X-MICROSOFT-CDO-ALLDAYEVENT:FALSE
SUMMARY:Ambassadors Meeting
DESCRIPTION:Ambassadors are an enthusiastic team of dedicated volunteers and members who facilitate and set the welcoming tone at programs and events for the Longmont Area Chamber of Commerce.\n\nThis meeting\, every second Tuesday of the month\, is meant to inspire and inform Ambassadors so they can better engage members.\n\nBeing an Ambassador is a great way to more deeply engage in the Longmont Chamber and its events while getting to know your fellow Chamber Members.\n\n\n\nPlease email Wendi at wbraden@longmontchamber.org to attend!
X-ALT-DESC;FMTTYPE=text/html:<p>Ambassadors are an enthusiastic team of dedicated volunteers and members who facilitate and set the welcoming tone at programs and events for the Longmont Area Chamber of Commerce.</p>\n\n<p>This meeting\, every second Tuesday of the month\, is meant to inspire and inform Ambassadors so they can better engage members.</p>\n\n<p>Being an Ambassador is a great way to more deeply engage in the Longmont Chamber and its events while getting to know your fellow Chamber Members.<br />\n<br />\nPlease email Wendi at wbraden@longmontchamber.org to attend!</p>\n
LOCATION:
UID:e.3083.4396
SEQUENCE:3
DTSTAMP:20260420T194638Z
URL:https://members.longmontchamber.org/events/details/ambassadors-meeting-07-14-2026-4396
END:VEVENT

END:VCALENDAR
