BEGIN:VCALENDAR
VERSION:2.0
PRODID:-//ChamberMaster//Event Calendar 2.0//EN
METHOD:PUBLISH
X-PUBLISHED-TTL:P3D
REFRESH-INTERVAL:P3D
CALSCALE:GREGORIAN
BEGIN:VEVENT
DTSTART:20200414T140000Z
DTEND:20200414T150000Z
X-MICROSOFT-CDO-ALLDAYEVENT:FALSE
SUMMARY:Ambassadors Meeting on Zoom
DESCRIPTION:Ambassadors are an enthusiastic team of dedicated volunteers and members who facilitate and set the welcoming tone at programs and events for the Longmont Area Chamber of Commerce.\nThis meeting\, every Second Tuesday of the month\, is meant to inspire and inform Ambassadors so they can better engage members. \n\nBeing an Ambassador is a great way to more deeply engage in the Longmont Chamber and its events while getting to know your fellow Chamber Members.
X-ALT-DESC;FMTTYPE=text/html:<span style="color: black\; font-family: Verdana\, sans-serif\; font-size: 12pt\;">Ambassadors are an enthusiastic team of dedicated volunteers and members who facilitate and set the welcoming tone at programs and events for the Longmont Area Chamber of Commerce.</span>\n<p class="MsoNormal" style="margin-bottom:0in\;margin-bottom:.0001pt\;line-height:\nnormal"><span style="font-size:12.0pt\;font-family:&quot\;Verdana&quot\;\,sans-serif\;\nmso-fareast-font-family:&quot\;Times New Roman&quot\;\;mso-bidi-font-family:&quot\;Times New Roman&quot\;\;\ncolor:black">This meeting\, every Second Tuesday of the month\, is meant to inspire and inform Ambassadors so they can better engage members. <o:p></o:p></span></p>\n\n<p class="MsoNormal" style="margin-bottom:0in\;margin-bottom:.0001pt\;line-height:\nnormal"><span style="font-size:12.0pt\;font-family:&quot\;Verdana&quot\;\,sans-serif\;\nmso-fareast-font-family:&quot\;Times New Roman&quot\;\;mso-bidi-font-family:&quot\;Times New Roman&quot\;\;\ncolor:black">Being an Ambassador is a great way to more deeply engage in the Longmont Chamber and its events while getting to know your fellow Chamber Members.<o:p></o:p></span></p>\n
LOCATION:Zoom Meeting Email Jessica Carson for meeting info: jcarson@longmontchamber.org
UID:e.3083.4321
SEQUENCE:3
DTSTAMP:20260425T152740Z
URL:https://members.longmontchamber.org/events/details/ambassadors-meeting-on-zoom-4321
END:VEVENT

END:VCALENDAR
