BEGIN:VCALENDAR
VERSION:2.0
PRODID:-//ChamberMaster//Event Calendar 2.0//EN
METHOD:PUBLISH
X-PUBLISHED-TTL:P3D
REFRESH-INTERVAL:P3D
CALSCALE:GREGORIAN
BEGIN:VEVENT
DTSTART:20250621T003000Z
DTEND:20250621T023000Z
X-MICROSOFT-CDO-ALLDAYEVENT:FALSE
SUMMARY:Apothecary & Cocktails
DESCRIPTION:Join Dry Land Distillers and Blackbird House on this Summer Solstice for an eve honoring bitters\, cocktails\, and the sun having risen to the highest point in the sky!\n\nCome learn about the history of bitters\, the origins and benefits of the botanicals that go into them\, their healing properties and connection to apothecaries\, and the magic and complexities they add to cocktails!\n\nThis is a ticketed event and includes guest presenters\, a bitters kit\, and one choice cocktail crafted specially for this event. Spaces are limited\, purchase tickets here to secure a spot!\n\nWe look forward to sharing this longest day of the year with you and our treasured and generous community.\n\nBlackbird House is a local Longmont curiosity shop which includes an herbal apothecary\, plants\, trinkets\, and wonder. We encourage you to stop by for gander and stimulate your senses of wonder!
X-ALT-DESC;FMTTYPE=text/html:<p><br />\n<span style="font-size:20px\;">Join Dry Land Distillers and&nbsp\;<a href="https://www.instagram.com/blackbirdhouselongmont/?hl=en">Blackbird House</a>&nbsp\;on this Summer Solstice for an eve honoring bitters\, cocktails\, and the sun having risen to the highest point in the sky!</span></p>\n\n<p><span style="font-size:20px\;">Come learn about the history of bitters\, the origins and benefits of the botanicals that go into them\, their healing properties and connection to apothecaries\, and the magic and complexities they add to cocktails!</span></p>\n\n<p><span style="font-size:20px\;">This is a ticketed event and includes guest presenters\, a bitters kit\, and one choice cocktail crafted specially for this event. Spaces are limited\,&nbsp\;<a href="https://www.drylanddistillers.com/products/apothecary-cocktails">purchase tickets here</a>&nbsp\;to secure a spot!</span></p>\n\n<p><span style="font-size:20px\;">We look forward to sharing this longest day of the year with you and our treasured and generous community.</span></p>\n\n<p><span style="font-size:20px\;">Blackbird House is a local Longmont curiosity shop which includes an herbal apothecary\, plants\, trinkets\, and wonder. We encourage you to stop by for gander and stimulate your senses of wonder!</span></p>\n
LOCATION:Dry Land Distillers
UID:e.3083.13548
SEQUENCE:3
DTSTAMP:20260421T111027Z
URL:https://members.longmontchamber.org/events/details/apothecary-cocktails-13548
END:VEVENT

END:VCALENDAR
