BEGIN:VCALENDAR
VERSION:2.0
PRODID:-//ChamberMaster//Event Calendar 2.0//EN
METHOD:PUBLISH
X-PUBLISHED-TTL:P3D
REFRESH-INTERVAL:P3D
CALSCALE:GREGORIAN
BEGIN:VEVENT
DTSTART;VALUE=DATE:20230405
DTEND;VALUE=DATE:20230501
TRANSP:TRANSPARENT
X-MICROSOFT-CDO-ALLDAYEVENT:TRUE
SUMMARY:April is Women's Eye Health and Safety Month
DESCRIPTION:April is Women's Eye Health and Safety Month. Did you know that women are more likely than men to suffer from visual difficulties and loss? Being proactive with your eye health could prevent future complications. Call to schedule your exam today\, 303-772-3300.
X-ALT-DESC;FMTTYPE=text/html:<span style="background-color:rgb(255\, 255\, 255)\; font-family:times new roman\,times\,serif\; font-size:16px">April is Women&#39\;s Eye Health and Safety Month. Did you know that women are more likely than men to suffer from visual difficulties and loss? Being proactive with your eye health could prevent future complications. Call to schedule your exam today\, 303-772-3300.</span>
LOCATION:
UID:e.3083.9670
SEQUENCE:3
DTSTAMP:20260423T052816Z
URL:https://members.longmontchamber.org/events/details/april-is-women-s-eye-health-and-safety-month-9670
END:VEVENT

END:VCALENDAR
