BEGIN:VCALENDAR
VERSION:2.0
PRODID:-//ChamberMaster//Event Calendar 2.0//EN
METHOD:PUBLISH
X-PUBLISHED-TTL:P3D
REFRESH-INTERVAL:P3D
CALSCALE:GREGORIAN
BEGIN:VEVENT
DTSTART;VALUE=DATE:20250510
DTEND;VALUE=DATE:20250511
TRANSP:TRANSPARENT
X-MICROSOFT-CDO-ALLDAYEVENT:TRUE
SUMMARY:Arrive Longmont OPEN HOUSE tour
DESCRIPTION:Please come tour our beautiful new townhomes for rent Saturday 5/10 noon to 5pm.\n\n920 Cedar Pine Drive on the corner of Pace and 9th.\n\n\n\nEnjoy refreshments and sandwiches and meet Lily and Brynn!
X-ALT-DESC;FMTTYPE=text/html:<br />\n<span style="font-size:20px\;">Please come tour our beautiful new townhomes for rent Saturday 5/10 noon to 5pm.<br />\n920 Cedar Pine Drive on the corner of Pace and 9th.<br />\n<br />\nEnjoy refreshments and sandwiches and meet Lily and Brynn!</span>
LOCATION:Arrive Longmont
UID:e.3083.13453
SEQUENCE:3
DTSTAMP:20260421T124707Z
URL:https://members.longmontchamber.org/events/details/arrive-longmont-open-house-tour-13453
END:VEVENT

END:VCALENDAR
