BEGIN:VCALENDAR
VERSION:2.0
PRODID:-//ChamberMaster//Event Calendar 2.0//EN
METHOD:PUBLISH
X-PUBLISHED-TTL:P3D
REFRESH-INTERVAL:P3D
CALSCALE:GREGORIAN
BEGIN:VEVENT
DTSTART:20240921T200000Z
DTEND:20240922T040000Z
X-MICROSOFT-CDO-ALLDAYEVENT:FALSE
SUMMARY:Arroyo Whiskey (Barrel #2) Release!
DESCRIPTION:Come celebrate the Autumnal Equinox and changing of the seasons with the release of Barrel #2 of our Arroyo Whiskey! \n\nThis second batch is the liquid gold of an ongoing collaboration between Dry Land Distillers and the fine folks and brew enchanters at Primitive Beer\, a small family-run beer blendery crafting spontaneously fermented wheat beer inspired by Belgian Lambic.\n\nBoth Dry Land Distillers and Primitive beer pay homage to the beauty and nuances of local agriculture and use the finest of Colorado grains and ingredients.\n\nThis particular barrel of Arroyo Whiskey is made with Colorado malts\, including Antero wheat from Marc Arnusch Farms.  The beer was barrel-fermented for nearly three years before being distilled and aged for an additional 18 months as a whiskey in a new American oak barrel.\n\nEach batch of Arroyo is generously nuanced and unique. Barrel #2 is gorgeously complex\, earthy\, and loaded with prominent apricot and toasted grain notes. The whiskey is well balanced with multiple layers of baking spice and a delightfully chalky\, clean finish.\n\nBottles with be released to the public on Saturday\, September 21st beginning at 2 p.m. We will be offering a free tasting through the weekend as supply lasts! This is a limited release with high demand. Our last batch sold out in record time\, so start your weekend early so as to not miss out!
X-ALT-DESC;FMTTYPE=text/html:<p>Come celebrate the Autumnal Equinox and changing of the seasons with the release of Barrel #2 of our Arroyo Whiskey!&nbsp\;</p>\n\n<p>This second batch is the liquid gold of an ongoing collaboration between Dry Land Distillers and the fine folks and brew enchanters at&nbsp\;<a href="https://primitive.beer/">Primitive Beer</a>\, a small family-run beer blendery crafting spontaneously fermented wheat beer inspired by Belgian Lambic.</p>\n\n<p>Both Dry Land Distillers and Primitive beer pay homage to the beauty and nuances of local agriculture and use the finest of Colorado grains and ingredients.</p>\n\n<p>This particular barrel of Arroyo Whiskey is made with Colorado malts\, including Antero wheat from&nbsp\;<a href="https://arnuschfarms.com/">Marc Arnusch Farms</a>.&nbsp\; The beer was barrel-fermented for nearly three years before being distilled and aged for an additional 18 months as a whiskey in a new American oak barrel.</p>\n\n<p>Each batch of Arroyo is generously nuanced and unique. Barrel #2 is gorgeously complex\, earthy\, and loaded with prominent apricot and toasted grain notes. The whiskey is well balanced with multiple layers of baking spice and a delightfully chalky\, clean finish.</p>\n\n<p>Bottles with be released to the public on Saturday\, September 21st beginning at 2 p.m. We will be offering a free tasting through the weekend as supply lasts! This is a limited release with high demand. Our last batch sold out in record time\, so start your weekend early so as to not miss out!</p>\n\n<p>&nbsp\;</p>\n\n<p>&nbsp\;</p>\n
LOCATION:519 Main St.\, Longmont\, CO 80051
UID:e.3083.10224
SEQUENCE:3
DTSTAMP:20260422T013536Z
URL:https://members.longmontchamber.org/events/details/arroyo-whiskey-barrel-2-release-10224
END:VEVENT

END:VCALENDAR
