BEGIN:VCALENDAR
VERSION:2.0
PRODID:-//ChamberMaster//Event Calendar 2.0//EN
METHOD:PUBLISH
X-PUBLISHED-TTL:P3D
REFRESH-INTERVAL:P3D
CALSCALE:GREGORIAN
BEGIN:VEVENT
DTSTART:20220322T230000Z
DTEND:20220323T010000Z
X-MICROSOFT-CDO-ALLDAYEVENT:FALSE
SUMMARY:Art & Creative Business Workshop
DESCRIPTION:Are you struggling with the ins and outs of starting or continuing a successful art business? Do you wish you could ask someone basic questions to help you avoid hours of research and banging your head on your desk in frustration? Questions like how to use square/credit card payments\, how to approach retail stores and galleries\, wholesale vs consignment vs shops vs booths\, sales tax\, business registration? Or just give you tips on local groups and opportunities happening in your community?\n\n\n\nThis workshop is customized to meet you at whatever stage you're in with your art or creative business. The class size will be a max of 10 people in a similar situation to yourself. This provides the opportunity to learn from and lean on your fellow classmates and their experiences.\n\n\n\nI'll spend time ahead of the class gathering info and research before the class starts to answer your questions and provide resources to help you get started. If you still want more one-on-one help after the class I'm offering art career counseling starting at $45/hr.\n\n\n\nFill out the questionnaire below to complete your registration and help me prepare answers and information for you ahead of the class! I look forward to meeting you!
X-ALT-DESC;FMTTYPE=text/html:Are you struggling with the ins and outs of starting or continuing a successful art business? Do you wish you could ask someone basic questions to help you avoid hours of research and banging your head on your desk in frustration? Questions like how to use square/credit card payments\, how to approach retail stores and galleries\, wholesale vs consignment vs shops vs booths\, sales tax\, business registration? Or just give you tips on local groups and opportunities happening in your community?<br />\n<br />\nThis workshop is customized to meet you at whatever stage you&#39\;re in with your art or creative business. The class size will be a max of 10 people in a similar situation to yourself. This provides the opportunity to learn from and lean on your fellow classmates and their experiences.<br />\n<br />\nI&rsquo\;ll spend time ahead of the class gathering info and research before the class starts to answer your questions and provide resources to help you get started. If you still want more one-on-one help after the class I&rsquo\;m offering art career counseling starting at $45/hr.<br />\n<br />\nFill out the questionnaire below to complete your registration and help me prepare answers and information for you ahead of the class! I look forward to meeting you!
LOCATION:Firehouse Art Center 667 4th Avenue Longmont\, CO 80501
UID:e.3083.8672
SEQUENCE:3
DTSTAMP:20260424T013144Z
URL:https://members.longmontchamber.org/events/details/art-creative-business-workshop-8672
END:VEVENT

END:VCALENDAR
