BEGIN:VCALENDAR
VERSION:2.0
PRODID:-//ChamberMaster//Event Calendar 2.0//EN
METHOD:PUBLISH
X-PUBLISHED-TTL:P3D
REFRESH-INTERVAL:P3D
CALSCALE:GREGORIAN
BEGIN:VEVENT
DTSTART:20230419T233000Z
DTEND:20230420T003000Z
X-MICROSOFT-CDO-ALLDAYEVENT:FALSE
SUMMARY:Artwork Unveiling @ Martinis Bistro!
DESCRIPTION:Be one of the first to see the finished painting of Martinis Bistro\, commissioned by Martinis Bistro in this artwork unveiling event. Prints & Mugs of Martinis Bistro art (by Coy Ink) available for purchase during event. Wine provided\, additional food & drink available for purchase.
X-ALT-DESC;FMTTYPE=text/html:Be one of the first to see the finished painting of Martinis Bistro\, commissioned by Martinis Bistro in this artwork unveiling event. Prints &amp\; Mugs of Martinis Bistro art (by Coy Ink) available for purchase during event. Wine provided\, additional food &amp\; drink available for purchase.
LOCATION:Martinis Bistro 543 Terry Street Longmont\, CO 80501
UID:e.3083.9660
SEQUENCE:3
DTSTAMP:20260423T052141Z
URL:https://members.longmontchamber.org/events/details/artwork-unveiling-martinis-bistro-9660
END:VEVENT

END:VCALENDAR
