BEGIN:VCALENDAR
VERSION:2.0
PRODID:-//ChamberMaster//Event Calendar 2.0//EN
METHOD:PUBLISH
X-PUBLISHED-TTL:P3D
REFRESH-INTERVAL:P3D
CALSCALE:GREGORIAN
BEGIN:VEVENT
DTSTART:20241030T200000Z
DTEND:20241030T211500Z
X-MICROSOFT-CDO-ALLDAYEVENT:FALSE
SUMMARY:Awaken Your Joy Potential
DESCRIPTION:Joy is a daily practice\, not just an emotion. In this workshop\, we'll explore how to expand your capacity for love and joy in everyday life. When the heart is open\, life becomes more beautiful and meaningful\, and we have an abundance of love to share with others.\n\nWe will be in the 1st floor small conference room across from the bathrooms in the Longmont Public Library.\n\nNot sponsored or endorsed by the Longmont Public Library\, City of Longmont\, nor its affiliates.
X-ALT-DESC;FMTTYPE=text/html:<p><span style="background-color:transparent\; color:rgb(0\, 0\, 0)\; font-family:arial\,sans-serif\; font-size:12pt">Joy is a daily practice\, not just an emotion. In this workshop\, we&rsquo\;ll explore how to expand your capacity for love and joy in everyday life. When the heart is open\, life becomes more beautiful and meaningful\, and we have an abundance of love to share with others.</span></p>\n\n<p><span style="background-color:transparent\; color:rgb(0\, 0\, 0)\; font-family:arial\,sans-serif\; font-size:12pt">We will be in the 1st floor small conference room across from the bathrooms in the Longmont Public Library.</span></p>\n\n<p><span style="background-color:transparent\; color:rgb(0\, 0\, 0)\; font-family:arial\,sans-serif\; font-size:12pt">Not sponsored or endorsed by the Longmont Public Library\, City of Longmont\, nor its affiliates.</span></p>\n\n<div>&nbsp\;</div>\n
LOCATION:Longmont Public Library: 1st floor small conference room across from the bathrooms
UID:e.3083.10258
SEQUENCE:3
DTSTAMP:20260421T235405Z
URL:https://members.longmontchamber.org/events/details/awaken-your-joy-potential-10258
END:VEVENT

END:VCALENDAR
