BEGIN:VCALENDAR
VERSION:2.0
PRODID:-//ChamberMaster//Event Calendar 2.0//EN
METHOD:PUBLISH
X-PUBLISHED-TTL:P3D
REFRESH-INTERVAL:P3D
CALSCALE:GREGORIAN
BEGIN:VEVENT
DTSTART:20251003T010000Z
DTEND:20251003T030000Z
X-MICROSOFT-CDO-ALLDAYEVENT:FALSE
SUMMARY:Axe Me Out Musica Bingo
DESCRIPTION:Music Bingo Fun!  Join us for an evening of singing and bingo. The first card is FREE and each additional card is $1.  Great prizes and good times!
X-ALT-DESC;FMTTYPE=text/html:<br />\n<br />\n<span style="font-size: 22px\;">Music Bingo Fun!&nbsp\; Join us for an evening of singing and bingo. The first card is FREE and each additional card is $1.&nbsp\; Great prizes and good times!</span>
LOCATION:Axe Me Out
UID:e.3083.13994
SEQUENCE:3
DTSTAMP:20260421T052502Z
URL:https://members.longmontchamber.org/events/details/axe-me-out-musica-bingo-10-02-2025-13994
END:VEVENT

END:VCALENDAR
