BEGIN:VCALENDAR
VERSION:2.0
PRODID:-//ChamberMaster//Event Calendar 2.0//EN
METHOD:PUBLISH
X-PUBLISHED-TTL:P3D
REFRESH-INTERVAL:P3D
CALSCALE:GREGORIAN
BEGIN:VEVENT
DTSTART:20251205T020000Z
DTEND:20251205T040000Z
X-MICROSOFT-CDO-ALLDAYEVENT:FALSE
SUMMARY:Axe Me Out Musica Bingo
DESCRIPTION:Music Bingo Fun! Join us for an evening of singing and bingo. The first card is FREE and each additional card is $1. Great prizes and good times!
X-ALT-DESC;FMTTYPE=text/html:<br style="font-size: 22px\;" />\n<br />\n<span style="font-size: 22px\;">&#8203\;</span><span style="font-size: 22px\;">Music Bingo Fun! Join us for an evening of singing and bingo. The first card is FREE and each additional card is $1. Great prizes and good times!</span>
LOCATION:Axe Me Out
UID:e.3083.13996
SEQUENCE:3
DTSTAMP:20260421T033556Z
URL:https://members.longmontchamber.org/events/details/axe-me-out-musica-bingo-12-04-2025-13996
END:VEVENT

END:VCALENDAR
