BEGIN:VCALENDAR
VERSION:2.0
PRODID:-//ChamberMaster//Event Calendar 2.0//EN
METHOD:PUBLISH
X-PUBLISHED-TTL:P3D
REFRESH-INTERVAL:P3D
CALSCALE:GREGORIAN
BEGIN:VEVENT
DTSTART:20251121T020000Z
DTEND:20251121T040000Z
X-MICROSOFT-CDO-ALLDAYEVENT:FALSE
SUMMARY:Axe Me Out's Bingo Night
DESCRIPTION:Get ready for an unforgettable night at our one-of-a-kind Bingo Night! \n\nJoin Digital Monk as we bring the excitement with an exhilarating twist on the classic game.  Win fantastic prizes while enjoying the thrill of axe throwing!  Whether you're a bingo enthusiast or just looking for a fun evening out\, there's something for everyone.\n\n\n\nDon't miss out on this unique experience!  Bring your friends and get ready for a night of laughter\, games\, and great memories!\n\n\n\nYour first Bingo card is Free\, each additional card is $1\, you can buy as many as you want.  Axe throwing will still be going on\, you are welcome to purchase 30 min - 90 min axe throwing sessions during bingo. \n\n\n\nOr if your game night is not going the way you want\, you can jump into the rage room and release that steam!
X-ALT-DESC;FMTTYPE=text/html:<br />\n<span style="font-size:16px\;">Get ready for an unforgettable night at our one-of-a-kind Bingo Night!&nbsp\;<br />\nJoin Digital Monk as we bring the excitement with an exhilarating twist on the classic game.&nbsp\; Win fantastic prizes while enjoying the thrill of axe throwing!&nbsp\; Whether you&#39\;re a bingo enthusiast or just looking for a fun evening out\, there&#39\;s something for everyone.<br />\n<br />\nDon&#39\;t miss out on this unique experience!&nbsp\; Bring your friends and get ready for a night of laughter\, games\, and great memories!<br />\n<br />\nYour first Bingo card is Free\, each additional card is $1\, you can buy as many as you want.&nbsp\; Axe throwing will still be going on\, you are welcome to purchase 30 min - 90 min axe throwing sessions during bingo.&nbsp\;<br />\n<br />\nOr if your game night is not going the way you want\, you can jump into the rage room and release that steam!&nbsp\;</span>
LOCATION:
UID:e.3083.10939
SEQUENCE:3
DTSTAMP:20260421T033434Z
URL:https://members.longmontchamber.org/events/details/axe-me-out-s-bingo-night-11-20-2025-10939
END:VEVENT

END:VCALENDAR
