BEGIN:VCALENDAR
VERSION:2.0
PRODID:-//ChamberMaster//Event Calendar 2.0//EN
METHOD:PUBLISH
X-PUBLISHED-TTL:P3D
REFRESH-INTERVAL:P3D
CALSCALE:GREGORIAN
BEGIN:VEVENT
DTSTART:20251101T010000Z
DTEND:20251101T050000Z
X-MICROSOFT-CDO-ALLDAYEVENT:FALSE
SUMMARY:Axe Me Out's Halloween Party
DESCRIPTION:Join us for a spooktacular night filled with fun and frights at Axe Me Out!  Get ready for a hauntingly good time featuring music\, dancing\, and costume contests.  Dress to impress in your scariest or silliest Halloween attire for a chance to win exciting prizes.\n\n\n\nDon't miss the opportunity to mingle with fellow party-goers while enjoying delicious treats and drinks.  We'll also have Voodoo Doll making and flash tattoos!\n\nMark your calendars and get ready to elevate your Halloween celebrations with us!\n\nWe can't wait to see you there!
X-ALT-DESC;FMTTYPE=text/html:<p><span style="font-size:20px\;">Join us for a spooktacular night filled with fun and frights at Axe Me Out!&nbsp\; Get ready for a hauntingly good time featuring music\, dancing\, and costume contests.&nbsp\; Dress to impress in your scariest or silliest Halloween attire for a chance to win exciting prizes.</span><br />\n<br />\n<span style="font-size:20px\;">Don&rsquo\;t miss the opportunity to mingle with fellow party-goers while enjoying delicious treats and drinks.&nbsp\; We&rsquo\;ll also have Voodoo Doll making and flash tattoos!</span></p>\n\n<p><span style="font-size:20px\;">Mark your calendars and get ready to elevate your Halloween celebrations with us!</span></p>\n\n<p><span style="font-size:20px\;">We can&#39\;t wait to see you there!</span></p>\n
LOCATION:
UID:e.3083.14607
SEQUENCE:3
DTSTAMP:20260421T051443Z
URL:https://members.longmontchamber.org/events/details/axe-me-out-s-halloween-party-14607
END:VEVENT

END:VCALENDAR
