BEGIN:VCALENDAR
VERSION:2.0
PRODID:-//ChamberMaster//Event Calendar 2.0//EN
METHOD:PUBLISH
X-PUBLISHED-TTL:P3D
REFRESH-INTERVAL:P3D
CALSCALE:GREGORIAN
BEGIN:VEVENT
DTSTART:20251109T000000Z
DTEND:20251109T040000Z
X-MICROSOFT-CDO-ALLDAYEVENT:FALSE
SUMMARY:Axe Me Out to Karaoke!
DESCRIPTION:Get ready for an unforgettable night at Early Bird Karaoke with Axe Me Out and Nic's Mobile Music starting at 5 PM!\n\nDust your costumes off and head over for a unique karaoke night.  Join us for our Pirate Karaoke Party!  Come dressed as a pirate\, viking or wench. Prize for the best costume\n\n\n\nSing your heart out\, unleash your inner warrior by throwing some axes\, or let off some steam in our rage room!\n\n\n\nLet's make some wild memories together!  Don't miss out!
X-ALT-DESC;FMTTYPE=text/html:<br />\n<span style="font-size:22px">Get ready for an unforgettable night at Early Bird Karaoke with Axe Me Out and Nic&#39\;s Mobile Music starting at 5 PM!<br />\nDust your costumes off and head over for a unique karaoke night.&nbsp\; Join us for our Pirate Karaoke Party!&nbsp\; Come dressed as a pirate\, viking or wench. Prize for the best costume<br />\n<br />\nSing your heart out\, unleash your inner warrior by throwing some axes\, or let off some steam in our rage room!<br />\n<br />\nLet&rsquo\;s make some wild memories together!&nbsp\; Don&rsquo\;t miss out!&nbsp\;</span>
LOCATION:Axe Me Out
UID:e.3083.13031
SEQUENCE:3
DTSTAMP:20260421T033459Z
URL:https://members.longmontchamber.org/events/details/axe-me-out-to-karaoke-11-08-2025-13031
END:VEVENT

END:VCALENDAR
